Workbook

Sheet Log
A1: PAHL ASSOCIATION SCORESHEET FINES LOG
A3: DATE | B3: ASSOCIATION | C3: INFRACTION/ | D3: FINE | E3: PAYMENT | F3: AMOUNT | G3: DATE | H3: AMOUNT | BA3: OWED | BZ3: PAID
A4: ISSUED | B4: NAME | C4: REASON | D4: AMOUNT | E4: DEADLINE | F4: PAID | G4: PAID | H4: OWED | K4: ASSOCIATIONS | AZ4: HELP1 | BA4: HELP2 | BB4: HELP3 | BD4: RANK | BE4: SORT | BY4: HELP1 | BZ4: HELP2 | CA4: HELP3 | CC4: RANK | CD4: SORT
A5: 44856 | B5: Central Earth | C5: late scoresheet | D5: 10 | E5: 44972 | F5: 10 | G5: 44872 | H5: =IF(D5="","",D5-F5) -> 0 | K5: Central Earth | AO5: =IF(AP5="","",COUNTIF($AP$5:AP5,AP5)) -> 1 | AP5: =IF(B5="","",B5) -> Central Earth | AQ5: =IF(AP5="","",_xlfn.CONCAT(AP5,AO5)) -> Central Earth1 | AR5: =IF(A5="","",A5) -> 44856 | AS5: =IF(D5="","",D5) -> 10 | AT5: =IF(C5="","",C5) -> late scoresheet | AU5: =IF(E5="","",E5) -> 44972 | AV5: =IF(G5="","",G5) -> 44872 | AW5: =IF(F5="","",F5) -> 10 | AX5: =IF(H5="","",H5) -> 0 | AY5: {=_xlfn.IFS(AX5="","",_xlfn.NUMBERVALUE(AX5)=0,"P",_xlfn.NUMBERVALUE(AX5)>0,"O")} -> P | AZ5: =ROWS($AO$5:AO5) -> 1 | BA5: =IF(AY5="O",AZ5,"") | BB5: =IFERROR(SMALL($BA$5:$BA$39,AZ5),"") -> 4 | BD5: =RANK(BE5,BE$5:BE$39,1) -> 1 | BE5: =IF(BF5="","36",COUNTIF($BF$5:$BF$39,"<="&BF5)) -> 32 | BF5: =IFERROR(INDEX($AP$5:$AX$39,$BB5,COLUMNS($AP$5:$AQ$5)),"") -> Central Earth2 | BG5: =IFERROR(INDEX($AP$5:$AX$39,$BB5,COLUMNS($AP$5:$AP$5)),"") -> Central Earth | BH5: =IFERROR(INDEX($AP$5:$AX$39,$BB5,COLUMNS($AP$5:$AR$5)),"") -> 44899 | BI5: =IFERROR(INDEX($AP$5:$AX$39,$BB5,COLUMNS($AP$5:$AS$5)),"") -> 10 | BJ5: =IFERROR(INDEX($AP$5:$AX$39,$BB5,COLUMNS($AP$5:$AX$5)),"") -> 10 | BK5: =IFERROR(INDEX($AP$5:$AX$39,$BB5,COLUMNS($AP$5:$AT$5)),"") -> incomplete scoresheet | BL5: =IFERROR(INDEX($AP$5:$AX$39,$BB5,COLUMNS($AP$5:$AU$5)),"") -> 44972 | BM5: =IFERROR(INDEX($AP$5:$AX$39,$BB5,COLUMNS($AP$5:$AW$5)),"") | BN5: =IFERROR(INDEX($AP$5:$AX$39,$BB5,COLUMNS($AP$5:$AX$5)),"") -> 10 | BP5: 1 | BQ5: =IF(BG5="","",VLOOKUP(BP5,$BD$5:$BN$39,4,FALSE)) -> Central Earth | BR5: =IF(BG5="","",VLOOKUP(BP5,$BD$5:$BN$39,5,FALSE)) -> 44899 | BS5: =IF(BG5="","",VLOOKUP(BP5,$BD$5:$BN$39,6,FALSE)) -> 10 | BT5: =IF(BG5="","",VLOOKUP(BP5,$BD$5:$BN$39,7,FALSE)) -> 10 | BU5: =IF(BG5="","",VLOOKUP(BP5,$BD$5:$BN$39,9,FALSE)) -> 44972 | BV5: =IF(BG5="","",VLOOKUP(BP5,$BD$5:$BN$39,8,FALSE)) -> incomplete scoresheet | BY5: =ROWS($AO$5:AO5) -> 1 | BZ5: =IF(AY5="P",BY5,"") -> 1 | CA5: =IFERROR(SMALL($BZ$5:$BZ$39,BY5),"") -> 1 | CC5: =RANK(CD5,CD$5:CD$39,1) -> 1 | CD5: =IF(CE5="","36",COUNTIF($CE$5:$CE$39,"<="&CE5)) -> 31 | CE5: =IFERROR(INDEX($AP$5:$AX$39,$CA5,COLUMNS($AP$5:$AQ$5)),"") -> Central Earth1 | CF5: =IFERROR(INDEX($AP$5:$AX$39,$CA5,COLUMNS($AP$5:$AP$5)),"") -> Central Earth | CG5: =IFERROR(INDEX($AP$5:$AX$39,$CA5,COLUMNS($AP$5:$AR$5)),"") -> 44856 | CH5: =IFERROR(INDEX($AP$5:$AX$39,$CA5,COLUMNS($AP$5:$AS$5)),"") -> 10 | CI5: =IFERROR(INDEX($AP$5:$AX$39,$CA5,COLUMNS($AP$5:$AV$5)),"") -> 44872 | CJ5: =IFERROR(INDEX($AP$5:$AX$39,$CA5,COLUMNS($AP$5:$AW$5)),"") -> 10 | CK5: =IFERROR(INDEX($AP$5:$AX$39,$CA5,COLUMNS($AP$5:$AT$5)),"") -> late scoresheet | CM5: 1 | CN5: =IF(CF5="","",VLOOKUP(CM5,$CC$5:$CK$39,4,FALSE)) -> Central Earth | CO5: =IF(CF5="","",VLOOKUP(CM5,$CC$5:$CK$39,5,FALSE)) -> 44856 | CP5: =IF(CF5="","",VLOOKUP(CM5,$CC$5:$CK$39,6,FALSE)) -> 10 | CQ5: =IF(CF5="","",VLOOKUP(CM5,$CC$5:$CK$39,7,FALSE)) -> 44872 | CR5: =IF(CF5="","",VLOOKUP(CM5,$CC$5:$CK$39,8,FALSE)) -> 10 | CS5: =IF(CF5="","",VLOOKUP(CM5,$CC$5:$CK$39,9,FALSE)) -> late scoresheet | CT5: =IF(CL5="","",VLOOKUP(CS5,$CC$5:$CK$39,4,FALSE))
A6: 44878 | B6: West Jupiter | C6: missing scoresheet | D6: 10 | E6: 44972 | F6: 10 | G6: 44962 | H6: =IF(D6="","",D6-F6) -> 0 | K6: Martians | AO6: =IF(AP6="","",COUNTIF($AP$5:AP6,AP6)) -> 1 | AP6: =IF(B6="","",B6) -> West Jupiter | AQ6: =IF(AP6="","",_xlfn.CONCAT(AP6,AO6)) -> West Jupiter1 | AR6: =IF(A6="","",A6) -> 44878 | AS6: =IF(D6="","",D6) -> 10 | AT6: =IF(C6="","",C6) -> missing scoresheet | AU6: =IF(E6="","",E6) -> 44972 | AV6: =IF(G6="","",G6) -> 44962 | AW6: =IF(F6="","",F6) -> 10 | AX6: =IF(H6="","",H6) -> 0 | AY6: {=_xlfn.IFS(AX6="","",_xlfn.NUMBERVALUE(AX6)=0,"P",_xlfn.NUMBERVALUE(AX6)>0,"O")} -> P | AZ6: =ROWS($AO$5:AO6) -> 2 | BA6: =IF(AY6="O",AZ6,"") | BB6: =IFERROR(SMALL($BA$5:$BA$39,AZ6),"") -> 7 | BD6: =RANK(BE6,BE$5:BE$39,1) -> 2 | BE6: =IF(BF6="","36",COUNTIF($BF$5:$BF$39,"<="&BF6)) -> 33 | BF6: =IFERROR(INDEX($AP$5:$AX$39,$BB6,COLUMNS($AP$5:$AQ$5)),"") -> Central Earth3 | BG6: =IFERROR(INDEX($AP$5:$AX$39,$BB6,COLUMNS($AP$5:$AP$5)),"") -> Central Earth | BH6: =IFERROR(INDEX($AP$5:$AX$39,$BB6,COLUMNS($AP$5:$AR$5)),"") -> 44961 | BI6: =IFERROR(INDEX($AP$5:$AX$39,$BB6,COLUMNS($AP$5:$AS$5)),"") -> 25 | BJ6: =IFERROR(INDEX($AP$5:$AX$39,$BB6,COLUMNS($AP$5:$AX$5)),"") -> 25 | BK6: =IFERROR(INDEX($AP$5:$AX$39,$BB6,COLUMNS($AP$5:$AT$5)),"") -> unscored game | BL6: =IFERROR(INDEX($AP$5:$AX$39,$BB6,COLUMNS($AP$5:$AU$5)),"") -> 44972 | BM6: =IFERROR(INDEX($AP$5:$AX$39,$BB6,COLUMNS($AP$5:$AW$5)),"") | BN6: =IFERROR(INDEX($AP$5:$AX$39,$BB6,COLUMNS($AP$5:$AX$5)),"") -> 25 | BP6: 2 | BQ6: =IF(BG6="","",VLOOKUP(BP6,$BD$5:$BN$39,4,FALSE)) -> Central Earth | BR6: =IF(BG6="","",VLOOKUP(BP6,$BD$5:$BN$39,5,FALSE)) -> 44961 | BS6: =IF(BG6="","",VLOOKUP(BP6,$BD$5:$BN$39,6,FALSE)) -> 25 | BT6: =IF(BG6="","",VLOOKUP(BP6,$BD$5:$BN$39,7,FALSE)) -> 25 | BU6: =IF(BG6="","",VLOOKUP(BP6,$BD$5:$BN$39,9,FALSE)) -> 44972 | BV6: =IF(BG6="","",VLOOKUP(BP6,$BD$5:$BN$39,8,FALSE)) -> unscored game | BY6: =ROWS($AO$5:AO6) -> 2 | BZ6: =IF(AY6="P",BY6,"") -> 2 | CA6: =IFERROR(SMALL($BZ$5:$BZ$39,BY6),"") -> 2 | CC6: =RANK(CD6,CD$5:CD$39,1) -> 5 | CD6: =IF(CE6="","36",COUNTIF($CE$5:$CE$39,"<="&CE6)) -> 35 | CE6: =IFERROR(INDEX($AP$5:$AX$39,$CA6,COLUMNS($AP$5:$AQ$5)),"") -> West Jupiter1 | CF6: =IFERROR(INDEX($AP$5:$AX$39,$CA6,COLUMNS($AP$5:$AP$5)),"") -> West Jupiter | CG6: =IFERROR(INDEX($AP$5:$AX$39,$CA6,COLUMNS($AP$5:$AR$5)),"") -> 44878 | CH6: =IFERROR(INDEX($AP$5:$AX$39,$CA6,COLUMNS($AP$5:$AS$5)),"") -> 10 | CI6: =IFERROR(INDEX($AP$5:$AX$39,$CA6,COLUMNS($AP$5:$AV$5)),"") -> 44962 | CJ6: =IFERROR(INDEX($AP$5:$AX$39,$CA6,COLUMNS($AP$5:$AW$5)),"") -> 10 | CK6: =IFERROR(INDEX($AP$5:$AX$39,$CA6,COLUMNS($AP$5:$AT$5)),"") -> missing scoresheet | CM6: 2 | CN6: =IF(CF6="","",VLOOKUP(CM6,$CC$5:$CK$39,4,FALSE)) -> Martians | CO6: =IF(CF6="","",VLOOKUP(CM6,$CC$5:$CK$39,5,FALSE)) -> 44879 | CP6: =IF(CF6="","",VLOOKUP(CM6,$CC$5:$CK$39,6,FALSE)) -> 25 | CQ6: =IF(CF6="","",VLOOKUP(CM6,$CC$5:$CK$39,7,FALSE)) -> 44896 | CR6: =IF(CF6="","",VLOOKUP(CM6,$CC$5:$CK$39,8,FALSE)) -> 25 | CS6: =IF(CF6="","",VLOOKUP(CM6,$CC$5:$CK$39,9,FALSE)) -> unscored game
A7: 44879 | B7: Martians | C7: unscored game | D7: 25 | E7: 44972 | F7: 25 | G7: 44896 | H7: =IF(D7="","",D7-F7) -> 0 | K7: Mercury | AO7: =IF(AP7="","",COUNTIF($AP$5:AP7,AP7)) -> 1 | AP7: =IF(B7="","",B7) -> Martians | AQ7: =IF(AP7="","",_xlfn.CONCAT(AP7,AO7)) -> Martians1 | AR7: =IF(A7="","",A7) -> 44879 | AS7: =IF(D7="","",D7) -> 25 | AT7: =IF(C7="","",C7) -> unscored game | AU7: =IF(E7="","",E7) -> 44972 | AV7: =IF(G7="","",G7) -> 44896 | AW7: =IF(F7="","",F7) -> 25 | AX7: =IF(H7="","",H7) -> 0 | AY7: {=_xlfn.IFS(AX7="","",_xlfn.NUMBERVALUE(AX7)=0,"P",_xlfn.NUMBERVALUE(AX7)>0,"O")} -> P | AZ7: =ROWS($AO$5:AO7) -> 3 | BA7: =IF(AY7="O",AZ7,"") | BB7: =IFERROR(SMALL($BA$5:$BA$39,AZ7),"") -> 8 | BD7: =RANK(BE7,BE$5:BE$39,1) -> 3 | BE7: =IF(BF7="","36",COUNTIF($BF$5:$BF$39,"<="&BF7)) -> 34 | BF7: =IFERROR(INDEX($AP$5:$AX$39,$BB7,COLUMNS($AP$5:$AQ$5)),"") -> Central Earth4 | BG7: =IFERROR(INDEX($AP$5:$AX$39,$BB7,COLUMNS($AP$5:$AP$5)),"") -> Central Earth | BH7: =IFERROR(INDEX($AP$5:$AX$39,$BB7,COLUMNS($AP$5:$AR$5)),"") -> 44961 | BI7: =IFERROR(INDEX($AP$5:$AX$39,$BB7,COLUMNS($AP$5:$AS$5)),"") -> 10 | BJ7: =IFERROR(INDEX($AP$5:$AX$39,$BB7,COLUMNS($AP$5:$AX$5)),"") -> 10 | BK7: =IFERROR(INDEX($AP$5:$AX$39,$BB7,COLUMNS($AP$5:$AT$5)),"") -> late scoresheet | BL7: =IFERROR(INDEX($AP$5:$AX$39,$BB7,COLUMNS($AP$5:$AU$5)),"") -> 44972 | BM7: =IFERROR(INDEX($AP$5:$AX$39,$BB7,COLUMNS($AP$5:$AW$5)),"") | BN7: =IFERROR(INDEX($AP$5:$AX$39,$BB7,COLUMNS($AP$5:$AX$5)),"") -> 10 | BP7: 3 | BQ7: =IF(BG7="","",VLOOKUP(BP7,$BD$5:$BN$39,4,FALSE)) -> Central Earth | BR7: =IF(BG7="","",VLOOKUP(BP7,$BD$5:$BN$39,5,FALSE)) -> 44961 | BS7: =IF(BG7="","",VLOOKUP(BP7,$BD$5:$BN$39,6,FALSE)) -> 10 | BT7: =IF(BG7="","",VLOOKUP(BP7,$BD$5:$BN$39,7,FALSE)) -> 10 | BU7: =IF(BG7="","",VLOOKUP(BP7,$BD$5:$BN$39,9,FALSE)) -> 44972 | BV7: =IF(BG7="","",VLOOKUP(BP7,$BD$5:$BN$39,8,FALSE)) -> late scoresheet | BY7: =ROWS($AO$5:AO7) -> 3 | BZ7: =IF(AY7="P",BY7,"") -> 3 | CA7: =IFERROR(SMALL($BZ$5:$BZ$39,BY7),"") -> 3 | CC7: =RANK(CD7,CD$5:CD$39,1) -> 2 | CD7: =IF(CE7="","36",COUNTIF($CE$5:$CE$39,"<="&CE7)) -> 32 | CE7: =IFERROR(INDEX($AP$5:$AX$39,$CA7,COLUMNS($AP$5:$AQ$5)),"") -> Martians1 | CF7: =IFERROR(INDEX($AP$5:$AX$39,$CA7,COLUMNS($AP$5:$AP$5)),"") -> Martians | CG7: =IFERROR(INDEX($AP$5:$AX$39,$CA7,COLUMNS($AP$5:$AR$5)),"") -> 44879 | CH7: =IFERROR(INDEX($AP$5:$AX$39,$CA7,COLUMNS($AP$5:$AS$5)),"") -> 25 | CI7: =IFERROR(INDEX($AP$5:$AX$39,$CA7,COLUMNS($AP$5:$AV$5)),"") -> 44896 | CJ7: =IFERROR(INDEX($AP$5:$AX$39,$CA7,COLUMNS($AP$5:$AW$5)),"") -> 25 | CK7: =IFERROR(INDEX($AP$5:$AX$39,$CA7,COLUMNS($AP$5:$AT$5)),"") -> unscored game | CM7: 3 | CN7: =IF(CF7="","",VLOOKUP(CM7,$CC$5:$CK$39,4,FALSE)) -> Martians | CO7: =IF(CF7="","",VLOOKUP(CM7,$CC$5:$CK$39,5,FALSE)) -> 44948 | CP7: =IF(CF7="","",VLOOKUP(CM7,$CC$5:$CK$39,6,FALSE)) -> 25 | CQ7: =IF(CF7="","",VLOOKUP(CM7,$CC$5:$CK$39,7,FALSE)) -> 44957 | CR7: =IF(CF7="","",VLOOKUP(CM7,$CC$5:$CK$39,8,FALSE)) -> 25 | CS7: =IF(CF7="","",VLOOKUP(CM7,$CC$5:$CK$39,9,FALSE)) -> unscored game
A8: 44899 | B8: Central Earth | C8: incomplete scoresheet | D8: 10 | E8: 44972 | H8: =IF(D8="","",D8-F8) -> 10 | K8: Planet Pluto | AO8: =IF(AP8="","",COUNTIF($AP$5:AP8,AP8)) -> 2 | AP8: =IF(B8="","",B8) -> Central Earth | AQ8: =IF(AP8="","",_xlfn.CONCAT(AP8,AO8)) -> Central Earth2 | AR8: =IF(A8="","",A8) -> 44899 | AS8: =IF(D8="","",D8) -> 10 | AT8: =IF(C8="","",C8) -> incomplete scoresheet | AU8: =IF(E8="","",E8) -> 44972 | AV8: =IF(G8="","",G8) | AW8: =IF(F8="","",F8) | AX8: =IF(H8="","",H8) -> 10 | AY8: {=_xlfn.IFS(AX8="","",_xlfn.NUMBERVALUE(AX8)=0,"P",_xlfn.NUMBERVALUE(AX8)>0,"O")} -> O | AZ8: =ROWS($AO$5:AO8) -> 4 | BA8: =IF(AY8="O",AZ8,"") -> 4 | BB8: =IFERROR(SMALL($BA$5:$BA$39,AZ8),"") -> 9 | BD8: =RANK(BE8,BE$5:BE$39,1) -> 4 | BE8: =IF(BF8="","36",COUNTIF($BF$5:$BF$39,"<="&BF8)) -> 35 | BF8: =IFERROR(INDEX($AP$5:$AX$39,$BB8,COLUMNS($AP$5:$AQ$5)),"") -> Planet Pluto1 | BG8: =IFERROR(INDEX($AP$5:$AX$39,$BB8,COLUMNS($AP$5:$AP$5)),"") -> Planet Pluto | BH8: =IFERROR(INDEX($AP$5:$AX$39,$BB8,COLUMNS($AP$5:$AR$5)),"") -> 44962 | BI8: =IFERROR(INDEX($AP$5:$AX$39,$BB8,COLUMNS($AP$5:$AS$5)),"") -> 10 | BJ8: =IFERROR(INDEX($AP$5:$AX$39,$BB8,COLUMNS($AP$5:$AX$5)),"") -> 10 | BK8: =IFERROR(INDEX($AP$5:$AX$39,$BB8,COLUMNS($AP$5:$AT$5)),"") -> missing scoresheet | BL8: =IFERROR(INDEX($AP$5:$AX$39,$BB8,COLUMNS($AP$5:$AU$5)),"") -> 44972 | BM8: =IFERROR(INDEX($AP$5:$AX$39,$BB8,COLUMNS($AP$5:$AW$5)),"") | BN8: =IFERROR(INDEX($AP$5:$AX$39,$BB8,COLUMNS($AP$5:$AX$5)),"") -> 10 | BP8: 4 | BQ8: =IF(BG8="","",VLOOKUP(BP8,$BD$5:$BN$39,4,FALSE)) -> Planet Pluto | BR8: =IF(BG8="","",VLOOKUP(BP8,$BD$5:$BN$39,5,FALSE)) -> 44962 | BS8: =IF(BG8="","",VLOOKUP(BP8,$BD$5:$BN$39,6,FALSE)) -> 10 | BT8: =IF(BG8="","",VLOOKUP(BP8,$BD$5:$BN$39,7,FALSE)) -> 10 | BU8: =IF(BG8="","",VLOOKUP(BP8,$BD$5:$BN$39,9,FALSE)) -> 44972 | BV8: =IF(BG8="","",VLOOKUP(BP8,$BD$5:$BN$39,8,FALSE)) -> missing scoresheet | BY8: =ROWS($AO$5:AO8) -> 4 | BZ8: =IF(AY8="P",BY8,"") | CA8: =IFERROR(SMALL($BZ$5:$BZ$39,BY8),"") -> 5 | CC8: =RANK(CD8,CD$5:CD$39,1) -> 4 | CD8: =IF(CE8="","36",COUNTIF($CE$5:$CE$39,"<="&CE8)) -> 34 | CE8: =IFERROR(INDEX($AP$5:$AX$39,$CA8,COLUMNS($AP$5:$AQ$5)),"") -> Mercury1 | CF8: =IFERROR(INDEX($AP$5:$AX$39,$CA8,COLUMNS($AP$5:$AP$5)),"") -> Mercury | CG8: =IFERROR(INDEX($AP$5:$AX$39,$CA8,COLUMNS($AP$5:$AR$5)),"") -> 44948 | CH8: =IFERROR(INDEX($AP$5:$AX$39,$CA8,COLUMNS($AP$5:$AS$5)),"") -> 10 | CI8: =IFERROR(INDEX($AP$5:$AX$39,$CA8,COLUMNS($AP$5:$AV$5)),"") -> 44956 | CJ8: =IFERROR(INDEX($AP$5:$AX$39,$CA8,COLUMNS($AP$5:$AW$5)),"") -> 10 | CK8: =IFERROR(INDEX($AP$5:$AX$39,$CA8,COLUMNS($AP$5:$AT$5)),"") -> illegible scoresheet | CM8: 4 | CN8: =IF(CF8="","",VLOOKUP(CM8,$CC$5:$CK$39,4,FALSE)) -> Mercury | CO8: =IF(CF8="","",VLOOKUP(CM8,$CC$5:$CK$39,5,FALSE)) -> 44948 | CP8: =IF(CF8="","",VLOOKUP(CM8,$CC$5:$CK$39,6,FALSE)) -> 10 | CQ8: =IF(CF8="","",VLOOKUP(CM8,$CC$5:$CK$39,7,FALSE)) -> 44956 | CR8: =IF(CF8="","",VLOOKUP(CM8,$CC$5:$CK$39,8,FALSE)) -> 10 | CS8: =IF(CF8="","",VLOOKUP(CM8,$CC$5:$CK$39,9,FALSE)) -> illegible scoresheet
A9: 44948 | B9: Mercury | C9: illegible scoresheet | D9: 10 | E9: 44972 | F9: 10 | G9: 44956 | H9: =IF(D9="","",D9-F9) -> 0 | K9: West Jupiter | AO9: =IF(AP9="","",COUNTIF($AP$5:AP9,AP9)) -> 1 | AP9: =IF(B9="","",B9) -> Mercury | AQ9: =IF(AP9="","",_xlfn.CONCAT(AP9,AO9)) -> Mercury1 | AR9: =IF(A9="","",A9) -> 44948 | AS9: =IF(D9="","",D9) -> 10 | AT9: =IF(C9="","",C9) -> illegible scoresheet | AU9: =IF(E9="","",E9) -> 44972 | AV9: =IF(G9="","",G9) -> 44956 | AW9: =IF(F9="","",F9) -> 10 | AX9: =IF(H9="","",H9) -> 0 | AY9: {=_xlfn.IFS(AX9="","",_xlfn.NUMBERVALUE(AX9)=0,"P",_xlfn.NUMBERVALUE(AX9)>0,"O")} -> P | AZ9: =ROWS($AO$5:AO9) -> 5 | BA9: =IF(AY9="O",AZ9,"") | BB9: =IFERROR(SMALL($BA$5:$BA$39,AZ9),"") | BD9: =RANK(BE9,BE$5:BE$39,1) -> #N/A | BE9: =IF(BF9="","36",COUNTIF($BF$5:$BF$39,"<="&BF9)) -> 36 | BF9: =IFERROR(INDEX($AP$5:$AX$39,$BB9,COLUMNS($AP$5:$AQ$5)),"") | BG9: =IFERROR(INDEX($AP$5:$AX$39,$BB9,COLUMNS($AP$5:$AP$5)),"") | BH9: =IFERROR(INDEX($AP$5:$AX$39,$BB9,COLUMNS($AP$5:$AR$5)),"") | BI9: =IFERROR(INDEX($AP$5:$AX$39,$BB9,COLUMNS($AP$5:$AS$5)),"") | BJ9: =IFERROR(INDEX($AP$5:$AX$39,$BB9,COLUMNS($AP$5:$AX$5)),"") | BK9: =IFERROR(INDEX($AP$5:$AX$39,$BB9,COLUMNS($AP$5:$AT$5)),"") | BL9: =IFERROR(INDEX($AP$5:$AX$39,$BB9,COLUMNS($AP$5:$AU$5)),"") | BM9: =IFERROR(INDEX($AP$5:$AX$39,$BB9,COLUMNS($AP$5:$AW$5)),"") | BN9: =IFERROR(INDEX($AP$5:$AX$39,$BB9,COLUMNS($AP$5:$AX$5)),"") | BP9: 5 | BQ9: =IF(BG9="","",VLOOKUP(BP9,$BD$5:$BN$39,4,FALSE)) | BR9: =IF(BG9="","",VLOOKUP(BP9,$BD$5:$BN$39,5,FALSE)) | BS9: =IF(BG9="","",VLOOKUP(BP9,$BD$5:$BN$39,6,FALSE)) | BT9: =IF(BG9="","",VLOOKUP(BP9,$BD$5:$BN$39,7,FALSE)) | BU9: =IF(BG9="","",VLOOKUP(BP9,$BD$5:$BN$39,9,FALSE)) | BV9: =IF(BG9="","",VLOOKUP(BP9,$BD$5:$BN$39,8,FALSE)) | BY9: =ROWS($AO$5:AO9) -> 5 | BZ9: =IF(AY9="P",BY9,"") -> 5 | CA9: =IFERROR(SMALL($BZ$5:$BZ$39,BY9),"") -> 6 | CC9: =RANK(CD9,CD$5:CD$39,1) -> 3 | CD9: =IF(CE9="","36",COUNTIF($CE$5:$CE$39,"<="&CE9)) -> 33 | CE9: =IFERROR(INDEX($AP$5:$AX$39,$CA9,COLUMNS($AP$5:$AQ$5)),"") -> Martians2 | CF9: =IFERROR(INDEX($AP$5:$AX$39,$CA9,COLUMNS($AP$5:$AP$5)),"") -> Martians | CG9: =IFERROR(INDEX($AP$5:$AX$39,$CA9,COLUMNS($AP$5:$AR$5)),"") -> 44948 | CH9: =IFERROR(INDEX($AP$5:$AX$39,$CA9,COLUMNS($AP$5:$AS$5)),"") -> 25 | CI9: =IFERROR(INDEX($AP$5:$AX$39,$CA9,COLUMNS($AP$5:$AV$5)),"") -> 44957 | CJ9: =IFERROR(INDEX($AP$5:$AX$39,$CA9,COLUMNS($AP$5:$AW$5)),"") -> 25 | CK9: =IFERROR(INDEX($AP$5:$AX$39,$CA9,COLUMNS($AP$5:$AT$5)),"") -> unscored game | CM9: 5 | CN9: =IF(CF9="","",VLOOKUP(CM9,$CC$5:$CK$39,4,FALSE)) -> West Jupiter | CO9: =IF(CF9="","",VLOOKUP(CM9,$CC$5:$CK$39,5,FALSE)) -> 44878 | CP9: =IF(CF9="","",VLOOKUP(CM9,$CC$5:$CK$39,6,FALSE)) -> 10 | CQ9: =IF(CF9="","",VLOOKUP(CM9,$CC$5:$CK$39,7,FALSE)) -> 44962 | CR9: =IF(CF9="","",VLOOKUP(CM9,$CC$5:$CK$39,8,FALSE)) -> 10 | CS9: =IF(CF9="","",VLOOKUP(CM9,$CC$5:$CK$39,9,FALSE)) -> missing scoresheet
A10: 44948 | B10: Martians | C10: unscored game | D10: 25 | E10: 44972 | F10: 25 | G10: 44957 | H10: =IF(D10="","",D10-F10) -> 0 | AO10: =IF(AP10="","",COUNTIF($AP$5:AP10,AP10)) -> 2 | AP10: =IF(B10="","",B10) -> Martians | AQ10: =IF(AP10="","",_xlfn.CONCAT(AP10,AO10)) -> Martians2 | AR10: =IF(A10="","",A10) -> 44948 | AS10: =IF(D10="","",D10) -> 25 | AT10: =IF(C10="","",C10) -> unscored game | AU10: =IF(E10="","",E10) -> 44972 | AV10: =IF(G10="","",G10) -> 44957 | AW10: =IF(F10="","",F10) -> 25 | AX10: =IF(H10="","",H10) -> 0 | AY10: {=_xlfn.IFS(AX10="","",_xlfn.NUMBERVALUE(AX10)=0,"P",_xlfn.NUMBERVALUE(AX10)>0,"O")} -> P | AZ10: =ROWS($AO$5:AO10) -> 6 | BA10: =IF(AY10="O",AZ10,"") | BB10: =IFERROR(SMALL($BA$5:$BA$39,AZ10),"") | BD10: =RANK(BE10,BE$5:BE$39,1) -> #N/A | BE10: =IF(BF10="","36",COUNTIF($BF$5:$BF$39,"<="&BF10)) -> 36 | BF10: =IFERROR(INDEX($AP$5:$AX$39,$BB10,COLUMNS($AP$5:$AQ$5)),"") | BG10: =IFERROR(INDEX($AP$5:$AX$39,$BB10,COLUMNS($AP$5:$AP$5)),"") | BH10: =IFERROR(INDEX($AP$5:$AX$39,$BB10,COLUMNS($AP$5:$AR$5)),"") | BI10: =IFERROR(INDEX($AP$5:$AX$39,$BB10,COLUMNS($AP$5:$AS$5)),"") | BJ10: =IFERROR(INDEX($AP$5:$AX$39,$BB10,COLUMNS($AP$5:$AX$5)),"") | BK10: =IFERROR(INDEX($AP$5:$AX$39,$BB10,COLUMNS($AP$5:$AT$5)),"") | BL10: =IFERROR(INDEX($AP$5:$AX$39,$BB10,COLUMNS($AP$5:$AU$5)),"") | BM10: =IFERROR(INDEX($AP$5:$AX$39,$BB10,COLUMNS($AP$5:$AW$5)),"") | BN10: =IFERROR(INDEX($AP$5:$AX$39,$BB10,COLUMNS($AP$5:$AX$5)),"") | BP10: 6 | BQ10: =IF(BG10="","",VLOOKUP(BP10,$BD$5:$BN$39,4,FALSE)) | BR10: =IF(BG10="","",VLOOKUP(BP10,$BD$5:$BN$39,5,FALSE)) | BS10: =IF(BG10="","",VLOOKUP(BP10,$BD$5:$BN$39,6,FALSE)) | BT10: =IF(BG10="","",VLOOKUP(BP10,$BD$5:$BN$39,7,FALSE)) | BU10: =IF(BG10="","",VLOOKUP(BP10,$BD$5:$BN$39,9,FALSE)) | BV10: =IF(BG10="","",VLOOKUP(BP10,$BD$5:$BN$39,8,FALSE)) | BY10: =ROWS($AO$5:AO10) -> 6 | BZ10: =IF(AY10="P",BY10,"") -> 6 | CA10: =IFERROR(SMALL($BZ$5:$BZ$39,BY10),"") | CC10: =RANK(CD10,CD$5:CD$39,1) -> #N/A | CD10: =IF(CE10="","36",COUNTIF($CE$5:$CE$39,"<="&CE10)) -> 36 | CE10: =IFERROR(INDEX($AP$5:$AX$39,$CA10,COLUMNS($AP$5:$AQ$5)),"") | CF10: =IFERROR(INDEX($AP$5:$AX$39,$CA10,COLUMNS($AP$5:$AP$5)),"") | CG10: =IFERROR(INDEX($AP$5:$AX$39,$CA10,COLUMNS($AP$5:$AR$5)),"") | CH10: =IFERROR(INDEX($AP$5:$AX$39,$CA10,COLUMNS($AP$5:$AS$5)),"") | CI10: =IFERROR(INDEX($AP$5:$AX$39,$CA10,COLUMNS($AP$5:$AV$5)),"") | CJ10: =IFERROR(INDEX($AP$5:$AX$39,$CA10,COLUMNS($AP$5:$AW$5)),"") | CK10: =IFERROR(INDEX($AP$5:$AX$39,$CA10,COLUMNS($AP$5:$AT$5)),"") | CM10: 6 | CN10: =IF(CF10="","",VLOOKUP(CM10,$CC$5:$CK$39,4,FALSE)) | CO10: =IF(CF10="","",VLOOKUP(CM10,$CC$5:$CK$39,5,FALSE)) | CP10: =IF(CF10="","",VLOOKUP(CM10,$CC$5:$CK$39,6,FALSE)) | CQ10: =IF(CF10="","",VLOOKUP(CM10,$CC$5:$CK$39,7,FALSE)) | CR10: =IF(CF10="","",VLOOKUP(CM10,$CC$5:$CK$39,8,FALSE)) | CS10: =IF(CF10="","",VLOOKUP(CM10,$CC$5:$CK$39,9,FALSE))
A11: 44961 | B11: Central Earth | C11: unscored game | D11: 25 | E11: 44972 | H11: =IF(D11="","",D11-F11) -> 25 | AO11: =IF(AP11="","",COUNTIF($AP$5:AP11,AP11)) -> 3 | AP11: =IF(B11="","",B11) -> Central Earth | AQ11: =IF(AP11="","",_xlfn.CONCAT(AP11,AO11)) -> Central Earth3 | AR11: =IF(A11="","",A11) -> 44961 | AS11: =IF(D11="","",D11) -> 25 | AT11: =IF(C11="","",C11) -> unscored game | AU11: =IF(E11="","",E11) -> 44972 | AV11: =IF(G11="","",G11) | AW11: =IF(F11="","",F11) | AX11: =IF(H11="","",H11) -> 25 | AY11: {=_xlfn.IFS(AX11="","",_xlfn.NUMBERVALUE(AX11)=0,"P",_xlfn.NUMBERVALUE(AX11)>0,"O")} -> O | AZ11: =ROWS($AO$5:AO11) -> 7 | BA11: =IF(AY11="O",AZ11,"") -> 7 | BB11: =IFERROR(SMALL($BA$5:$BA$39,AZ11),"") | BD11: =RANK(BE11,BE$5:BE$39,1) -> #N/A | BE11: =IF(BF11="","36",COUNTIF($BF$5:$BF$39,"<="&BF11)) -> 36 | BF11: =IFERROR(INDEX($AP$5:$AX$39,$BB11,COLUMNS($AP$5:$AQ$5)),"") | BG11: =IFERROR(INDEX($AP$5:$AX$39,$BB11,COLUMNS($AP$5:$AP$5)),"") | BH11: =IFERROR(INDEX($AP$5:$AX$39,$BB11,COLUMNS($AP$5:$AR$5)),"") | BI11: =IFERROR(INDEX($AP$5:$AX$39,$BB11,COLUMNS($AP$5:$AS$5)),"") | BJ11: =IFERROR(INDEX($AP$5:$AX$39,$BB11,COLUMNS($AP$5:$AX$5)),"") | BK11: =IFERROR(INDEX($AP$5:$AX$39,$BB11,COLUMNS($AP$5:$AT$5)),"") | BL11: =IFERROR(INDEX($AP$5:$AX$39,$BB11,COLUMNS($AP$5:$AU$5)),"") | BM11: =IFERROR(INDEX($AP$5:$AX$39,$BB11,COLUMNS($AP$5:$AW$5)),"") | BN11: =IFERROR(INDEX($AP$5:$AX$39,$BB11,COLUMNS($AP$5:$AX$5)),"") | BP11: 7 | BQ11: =IF(BG11="","",VLOOKUP(BP11,$BD$5:$BN$39,4,FALSE)) | BR11: =IF(BG11="","",VLOOKUP(BP11,$BD$5:$BN$39,5,FALSE)) | BS11: =IF(BG11="","",VLOOKUP(BP11,$BD$5:$BN$39,6,FALSE)) | BT11: =IF(BG11="","",VLOOKUP(BP11,$BD$5:$BN$39,7,FALSE)) | BU11: =IF(BG11="","",VLOOKUP(BP11,$BD$5:$BN$39,9,FALSE)) | BV11: =IF(BG11="","",VLOOKUP(BP11,$BD$5:$BN$39,8,FALSE)) | BY11: =ROWS($AO$5:AO11) -> 7 | BZ11: =IF(AY11="P",BY11,"") | CA11: =IFERROR(SMALL($BZ$5:$BZ$39,BY11),"") | CC11: =RANK(CD11,CD$5:CD$39,1) -> #N/A | CD11: =IF(CE11="","36",COUNTIF($CE$5:$CE$39,"<="&CE11)) -> 36 | CE11: =IFERROR(INDEX($AP$5:$AX$39,$CA11,COLUMNS($AP$5:$AQ$5)),"") | CF11: =IFERROR(INDEX($AP$5:$AX$39,$CA11,COLUMNS($AP$5:$AP$5)),"") | CG11: =IFERROR(INDEX($AP$5:$AX$39,$CA11,COLUMNS($AP$5:$AR$5)),"") | CH11: =IFERROR(INDEX($AP$5:$AX$39,$CA11,COLUMNS($AP$5:$AS$5)),"") | CI11: =IFERROR(INDEX($AP$5:$AX$39,$CA11,COLUMNS($AP$5:$AV$5)),"") | CJ11: =IFERROR(INDEX($AP$5:$AX$39,$CA11,COLUMNS($AP$5:$AW$5)),"") | CK11: =IFERROR(INDEX($AP$5:$AX$39,$CA11,COLUMNS($AP$5:$AT$5)),"") | CM11: 7 | CN11: =IF(CF11="","",VLOOKUP(CM11,$CC$5:$CK$39,4,FALSE)) | CO11: =IF(CF11="","",VLOOKUP(CM11,$CC$5:$CK$39,5,FALSE)) | CP11: =IF(CF11="","",VLOOKUP(CM11,$CC$5:$CK$39,6,FALSE)) | CQ11: =IF(CF11="","",VLOOKUP(CM11,$CC$5:$CK$39,7,FALSE)) | CR11: =IF(CF11="","",VLOOKUP(CM11,$CC$5:$CK$39,8,FALSE)) | CS11: =IF(CF11="","",VLOOKUP(CM11,$CC$5:$CK$39,9,FALSE))
A12: 44961 | B12: Central Earth | C12: late scoresheet | D12: 10 | E12: 44972 | H12: =IF(D12="","",D12-F12) -> 10 | AO12: =IF(AP12="","",COUNTIF($AP$5:AP12,AP12)) -> 4 | AP12: =IF(B12="","",B12) -> Central Earth | AQ12: =IF(AP12="","",_xlfn.CONCAT(AP12,AO12)) -> Central Earth4 | AR12: =IF(A12="","",A12) -> 44961 | AS12: =IF(D12="","",D12) -> 10 | AT12: =IF(C12="","",C12) -> late scoresheet | AU12: =IF(E12="","",E12) -> 44972 | AV12: =IF(G12="","",G12) | AW12: =IF(F12="","",F12) | AX12: =IF(H12="","",H12) -> 10 | AY12: {=_xlfn.IFS(AX12="","",_xlfn.NUMBERVALUE(AX12)=0,"P",_xlfn.NUMBERVALUE(AX12)>0,"O")} -> O | AZ12: =ROWS($AO$5:AO12) -> 8 | BA12: =IF(AY12="O",AZ12,"") -> 8 | BB12: =IFERROR(SMALL($BA$5:$BA$39,AZ12),"") | BD12: =RANK(BE12,BE$5:BE$39,1) -> #N/A | BE12: =IF(BF12="","36",COUNTIF($BF$5:$BF$39,"<="&BF12)) -> 36 | BF12: =IFERROR(INDEX($AP$5:$AX$39,$BB12,COLUMNS($AP$5:$AQ$5)),"") | BG12: =IFERROR(INDEX($AP$5:$AX$39,$BB12,COLUMNS($AP$5:$AP$5)),"") | BH12: =IFERROR(INDEX($AP$5:$AX$39,$BB12,COLUMNS($AP$5:$AR$5)),"") | BI12: =IFERROR(INDEX($AP$5:$AX$39,$BB12,COLUMNS($AP$5:$AS$5)),"") | BJ12: =IFERROR(INDEX($AP$5:$AX$39,$BB12,COLUMNS($AP$5:$AX$5)),"") | BK12: =IFERROR(INDEX($AP$5:$AX$39,$BB12,COLUMNS($AP$5:$AT$5)),"") | BL12: =IFERROR(INDEX($AP$5:$AX$39,$BB12,COLUMNS($AP$5:$AU$5)),"") | BM12: =IFERROR(INDEX($AP$5:$AX$39,$BB12,COLUMNS($AP$5:$AW$5)),"") | BN12: =IFERROR(INDEX($AP$5:$AX$39,$BB12,COLUMNS($AP$5:$AX$5)),"") | BP12: 8 | BQ12: =IF(BG12="","",VLOOKUP(BP12,$BD$5:$BN$39,4,FALSE)) | BR12: =IF(BG12="","",VLOOKUP(BP12,$BD$5:$BN$39,5,FALSE)) | BS12: =IF(BG12="","",VLOOKUP(BP12,$BD$5:$BN$39,6,FALSE)) | BT12: =IF(BG12="","",VLOOKUP(BP12,$BD$5:$BN$39,7,FALSE)) | BU12: =IF(BG12="","",VLOOKUP(BP12,$BD$5:$BN$39,9,FALSE)) | BV12: =IF(BG12="","",VLOOKUP(BP12,$BD$5:$BN$39,8,FALSE)) | BY12: =ROWS($AO$5:AO12) -> 8 | BZ12: =IF(AY12="P",BY12,"") | CA12: =IFERROR(SMALL($BZ$5:$BZ$39,BY12),"") | CC12: =RANK(CD12,CD$5:CD$39,1) -> #N/A | CD12: =IF(CE12="","36",COUNTIF($CE$5:$CE$39,"<="&CE12)) -> 36 | CE12: =IFERROR(INDEX($AP$5:$AX$39,$CA12,COLUMNS($AP$5:$AQ$5)),"") | CF12: =IFERROR(INDEX($AP$5:$AX$39,$CA12,COLUMNS($AP$5:$AP$5)),"") | CG12: =IFERROR(INDEX($AP$5:$AX$39,$CA12,COLUMNS($AP$5:$AR$5)),"") | CH12: =IFERROR(INDEX($AP$5:$AX$39,$CA12,COLUMNS($AP$5:$AS$5)),"") | CI12: =IFERROR(INDEX($AP$5:$AX$39,$CA12,COLUMNS($AP$5:$AV$5)),"") | CJ12: =IFERROR(INDEX($AP$5:$AX$39,$CA12,COLUMNS($AP$5:$AW$5)),"") | CK12: =IFERROR(INDEX($AP$5:$AX$39,$CA12,COLUMNS($AP$5:$AT$5)),"") | CM12: 8 | CN12: =IF(CF12="","",VLOOKUP(CM12,$CC$5:$CK$39,4,FALSE)) | CO12: =IF(CF12="","",VLOOKUP(CM12,$CC$5:$CK$39,5,FALSE)) | CP12: =IF(CF12="","",VLOOKUP(CM12,$CC$5:$CK$39,6,FALSE)) | CQ12: =IF(CF12="","",VLOOKUP(CM12,$CC$5:$CK$39,7,FALSE)) | CR12: =IF(CF12="","",VLOOKUP(CM12,$CC$5:$CK$39,8,FALSE)) | CS12: =IF(CF12="","",VLOOKUP(CM12,$CC$5:$CK$39,9,FALSE))
A13: 44962 | B13: Planet Pluto | C13: missing scoresheet | D13: 10 | E13: 44972 | H13: =IF(D13="","",D13-F13) -> 10 | AO13: =IF(AP13="","",COUNTIF($AP$5:AP13,AP13)) -> 1 | AP13: =IF(B13="","",B13) -> Planet Pluto | AQ13: =IF(AP13="","",_xlfn.CONCAT(AP13,AO13)) -> Planet Pluto1 | AR13: =IF(A13="","",A13) -> 44962 | AS13: =IF(D13="","",D13) -> 10 | AT13: =IF(C13="","",C13) -> missing scoresheet | AU13: =IF(E13="","",E13) -> 44972 | AV13: =IF(G13="","",G13) | AW13: =IF(F13="","",F13) | AX13: =IF(H13="","",H13) -> 10 | AY13: {=_xlfn.IFS(AX13="","",_xlfn.NUMBERVALUE(AX13)=0,"P",_xlfn.NUMBERVALUE(AX13)>0,"O")} -> O | AZ13: =ROWS($AO$5:AO13) -> 9 | BA13: =IF(AY13="O",AZ13,"") -> 9 | BB13: =IFERROR(SMALL($BA$5:$BA$39,AZ13),"") | BD13: =RANK(BE13,BE$5:BE$39,1) -> #N/A | BE13: =IF(BF13="","36",COUNTIF($BF$5:$BF$39,"<="&BF13)) -> 36 | BF13: =IFERROR(INDEX($AP$5:$AX$39,$BB13,COLUMNS($AP$5:$AQ$5)),"") | BG13: =IFERROR(INDEX($AP$5:$AX$39,$BB13,COLUMNS($AP$5:$AP$5)),"") | BH13: =IFERROR(INDEX($AP$5:$AX$39,$BB13,COLUMNS($AP$5:$AR$5)),"") | BI13: =IFERROR(INDEX($AP$5:$AX$39,$BB13,COLUMNS($AP$5:$AS$5)),"") | BJ13: =IFERROR(INDEX($AP$5:$AX$39,$BB13,COLUMNS($AP$5:$AX$5)),"") | BK13: =IFERROR(INDEX($AP$5:$AX$39,$BB13,COLUMNS($AP$5:$AT$5)),"") | BL13: =IFERROR(INDEX($AP$5:$AX$39,$BB13,COLUMNS($AP$5:$AU$5)),"") | BM13: =IFERROR(INDEX($AP$5:$AX$39,$BB13,COLUMNS($AP$5:$AW$5)),"") | BN13: =IFERROR(INDEX($AP$5:$AX$39,$BB13,COLUMNS($AP$5:$AX$5)),"") | BP13: 9 | BQ13: =IF(BG13="","",VLOOKUP(BP13,$BD$5:$BN$39,4,FALSE)) | BR13: =IF(BG13="","",VLOOKUP(BP13,$BD$5:$BN$39,5,FALSE)) | BS13: =IF(BG13="","",VLOOKUP(BP13,$BD$5:$BN$39,6,FALSE)) | BT13: =IF(BG13="","",VLOOKUP(BP13,$BD$5:$BN$39,7,FALSE)) | BU13: =IF(BG13="","",VLOOKUP(BP13,$BD$5:$BN$39,9,FALSE)) | BV13: =IF(BG13="","",VLOOKUP(BP13,$BD$5:$BN$39,8,FALSE)) | BY13: =ROWS($AO$5:AO13) -> 9 | BZ13: =IF(AY13="P",BY13,"") | CA13: =IFERROR(SMALL($BZ$5:$BZ$39,BY13),"") | CC13: =RANK(CD13,CD$5:CD$39,1) -> #N/A | CD13: =IF(CE13="","36",COUNTIF($CE$5:$CE$39,"<="&CE13)) -> 36 | CE13: =IFERROR(INDEX($AP$5:$AX$39,$CA13,COLUMNS($AP$5:$AQ$5)),"") | CF13: =IFERROR(INDEX($AP$5:$AX$39,$CA13,COLUMNS($AP$5:$AP$5)),"") | CG13: =IFERROR(INDEX($AP$5:$AX$39,$CA13,COLUMNS($AP$5:$AR$5)),"") | CH13: =IFERROR(INDEX($AP$5:$AX$39,$CA13,COLUMNS($AP$5:$AS$5)),"") | CI13: =IFERROR(INDEX($AP$5:$AX$39,$CA13,COLUMNS($AP$5:$AV$5)),"") | CJ13: =IFERROR(INDEX($AP$5:$AX$39,$CA13,COLUMNS($AP$5:$AW$5)),"") | CK13: =IFERROR(INDEX($AP$5:$AX$39,$CA13,COLUMNS($AP$5:$AT$5)),"") | CM13: 9 | CN13: =IF(CF13="","",VLOOKUP(CM13,$CC$5:$CK$39,4,FALSE)) | CO13: =IF(CF13="","",VLOOKUP(CM13,$CC$5:$CK$39,5,FALSE)) | CP13: =IF(CF13="","",VLOOKUP(CM13,$CC$5:$CK$39,6,FALSE)) | CQ13: =IF(CF13="","",VLOOKUP(CM13,$CC$5:$CK$39,7,FALSE)) | CR13: =IF(CF13="","",VLOOKUP(CM13,$CC$5:$CK$39,8,FALSE)) | CS13: =IF(CF13="","",VLOOKUP(CM13,$CC$5:$CK$39,9,FALSE))
H14: =IF(D14="","",D14-F14) | AO14: =IF(AP14="","",COUNTIF($AP$5:AP14,AP14)) | AP14: =IF(B14="","",B14) | AQ14: =IF(AP14="","",_xlfn.CONCAT(AP14,AO14)) | AR14: =IF(A14="","",A14) | AS14: =IF(D14="","",D14) | AT14: =IF(C14="","",C14) | AU14: =IF(E14="","",E14) | AV14: =IF(G14="","",G14) | AW14: =IF(F14="","",F14) | AX14: =IF(H14="","",H14) | AY14: {=_xlfn.IFS(AX14="","",_xlfn.NUMBERVALUE(AX14)=0,"P",_xlfn.NUMBERVALUE(AX14)>0,"O")} | AZ14: =ROWS($AO$5:AO14) -> 10 | BA14: =IF(AY14="O",AZ14,"") | BB14: =IFERROR(SMALL($BA$5:$BA$39,AZ14),"") | BD14: =RANK(BE14,BE$5:BE$39,1) -> #N/A | BE14: =IF(BF14="","36",COUNTIF($BF$5:$BF$39,"<="&BF14)) -> 36 | BF14: =IFERROR(INDEX($AP$5:$AX$39,$BB14,COLUMNS($AP$5:$AQ$5)),"") | BG14: =IFERROR(INDEX($AP$5:$AX$39,$BB14,COLUMNS($AP$5:$AP$5)),"") | BH14: =IFERROR(INDEX($AP$5:$AX$39,$BB14,COLUMNS($AP$5:$AR$5)),"") | BI14: =IFERROR(INDEX($AP$5:$AX$39,$BB14,COLUMNS($AP$5:$AS$5)),"") | BJ14: =IFERROR(INDEX($AP$5:$AX$39,$BB14,COLUMNS($AP$5:$AX$5)),"") | BK14: =IFERROR(INDEX($AP$5:$AX$39,$BB14,COLUMNS($AP$5:$AT$5)),"") | BL14: =IFERROR(INDEX($AP$5:$AX$39,$BB14,COLUMNS($AP$5:$AU$5)),"") | BM14: =IFERROR(INDEX($AP$5:$AX$39,$BB14,COLUMNS($AP$5:$AW$5)),"") | BN14: =IFERROR(INDEX($AP$5:$AX$39,$BB14,COLUMNS($AP$5:$AX$5)),"") | BP14: 10 | BQ14: =IF(BG14="","",VLOOKUP(BP14,$BD$5:$BN$39,4,FALSE)) | BR14: =IF(BG14="","",VLOOKUP(BP14,$BD$5:$BN$39,5,FALSE)) | BS14: =IF(BG14="","",VLOOKUP(BP14,$BD$5:$BN$39,6,FALSE)) | BT14: =IF(BG14="","",VLOOKUP(BP14,$BD$5:$BN$39,7,FALSE)) | BU14: =IF(BG14="","",VLOOKUP(BP14,$BD$5:$BN$39,9,FALSE)) | BV14: =IF(BG14="","",VLOOKUP(BP14,$BD$5:$BN$39,8,FALSE)) | BY14: =ROWS($AO$5:AO14) -> 10 | BZ14: =IF(AY14="P",BY14,"") | CA14: =IFERROR(SMALL($BZ$5:$BZ$39,BY14),"") | CC14: =RANK(CD14,CD$5:CD$39,1) -> #N/A | CD14: =IF(CE14="","36",COUNTIF($CE$5:$CE$39,"<="&CE14)) -> 36 | CE14: =IFERROR(INDEX($AP$5:$AX$39,$CA14,COLUMNS($AP$5:$AQ$5)),"") | CF14: =IFERROR(INDEX($AP$5:$AX$39,$CA14,COLUMNS($AP$5:$AP$5)),"") | CG14: =IFERROR(INDEX($AP$5:$AX$39,$CA14,COLUMNS($AP$5:$AR$5)),"") | CH14: =IFERROR(INDEX($AP$5:$AX$39,$CA14,COLUMNS($AP$5:$AS$5)),"") | CI14: =IFERROR(INDEX($AP$5:$AX$39,$CA14,COLUMNS($AP$5:$AV$5)),"") | CJ14: =IFERROR(INDEX($AP$5:$AX$39,$CA14,COLUMNS($AP$5:$AW$5)),"") | CK14: =IFERROR(INDEX($AP$5:$AX$39,$CA14,COLUMNS($AP$5:$AT$5)),"") | CM14: 10 | CN14: =IF(CF14="","",VLOOKUP(CM14,$CC$5:$CK$39,4,FALSE)) | CO14: =IF(CF14="","",VLOOKUP(CM14,$CC$5:$CK$39,5,FALSE)) | CP14: =IF(CF14="","",VLOOKUP(CM14,$CC$5:$CK$39,6,FALSE)) | CQ14: =IF(CF14="","",VLOOKUP(CM14,$CC$5:$CK$39,7,FALSE)) | CR14: =IF(CF14="","",VLOOKUP(CM14,$CC$5:$CK$39,8,FALSE)) | CS14: =IF(CF14="","",VLOOKUP(CM14,$CC$5:$CK$39,9,FALSE))
H15: =IF(D15="","",D15-F15) | AO15: =IF(AP15="","",COUNTIF($AP$5:AP15,AP15)) | AP15: =IF(B15="","",B15) | AQ15: =IF(AP15="","",_xlfn.CONCAT(AP15,AO15)) | AR15: =IF(A15="","",A15) | AS15: =IF(D15="","",D15) | AT15: =IF(C15="","",C15) | AU15: =IF(E15="","",E15) | AV15: =IF(G15="","",G15) | AW15: =IF(F15="","",F15) | AX15: =IF(H15="","",H15) | AY15: {=_xlfn.IFS(AX15="","",_xlfn.NUMBERVALUE(AX15)=0,"P",_xlfn.NUMBERVALUE(AX15)>0,"O")} | AZ15: =ROWS($AO$5:AO15) -> 11 | BA15: =IF(AY15="O",AZ15,"") | BB15: =IFERROR(SMALL($BA$5:$BA$39,AZ15),"") | BD15: =RANK(BE15,BE$5:BE$39,1) -> #N/A | BE15: =IF(BF15="","36",COUNTIF($BF$5:$BF$39,"<="&BF15)) -> 36 | BF15: =IFERROR(INDEX($AP$5:$AX$39,$BB15,COLUMNS($AP$5:$AQ$5)),"") | BG15: =IFERROR(INDEX($AP$5:$AX$39,$BB15,COLUMNS($AP$5:$AP$5)),"") | BH15: =IFERROR(INDEX($AP$5:$AX$39,$BB15,COLUMNS($AP$5:$AR$5)),"") | BI15: =IFERROR(INDEX($AP$5:$AX$39,$BB15,COLUMNS($AP$5:$AS$5)),"") | BJ15: =IFERROR(INDEX($AP$5:$AX$39,$BB15,COLUMNS($AP$5:$AX$5)),"") | BK15: =IFERROR(INDEX($AP$5:$AX$39,$BB15,COLUMNS($AP$5:$AT$5)),"") | BL15: =IFERROR(INDEX($AP$5:$AX$39,$BB15,COLUMNS($AP$5:$AU$5)),"") | BM15: =IFERROR(INDEX($AP$5:$AX$39,$BB15,COLUMNS($AP$5:$AW$5)),"") | BN15: =IFERROR(INDEX($AP$5:$AX$39,$BB15,COLUMNS($AP$5:$AX$5)),"") | BP15: 11 | BQ15: =IF(BG15="","",VLOOKUP(BP15,$BD$5:$BN$39,4,FALSE)) | BR15: =IF(BG15="","",VLOOKUP(BP15,$BD$5:$BN$39,5,FALSE)) | BS15: =IF(BG15="","",VLOOKUP(BP15,$BD$5:$BN$39,6,FALSE)) | BT15: =IF(BG15="","",VLOOKUP(BP15,$BD$5:$BN$39,7,FALSE)) | BU15: =IF(BG15="","",VLOOKUP(BP15,$BD$5:$BN$39,9,FALSE)) | BV15: =IF(BG15="","",VLOOKUP(BP15,$BD$5:$BN$39,8,FALSE)) | BY15: =ROWS($AO$5:AO15) -> 11 | BZ15: =IF(AY15="P",BY15,"") | CA15: =IFERROR(SMALL($BZ$5:$BZ$39,BY15),"") | CC15: =RANK(CD15,CD$5:CD$39,1) -> #N/A | CD15: =IF(CE15="","36",COUNTIF($CE$5:$CE$39,"<="&CE15)) -> 36 | CE15: =IFERROR(INDEX($AP$5:$AX$39,$CA15,COLUMNS($AP$5:$AQ$5)),"") | CF15: =IFERROR(INDEX($AP$5:$AX$39,$CA15,COLUMNS($AP$5:$AP$5)),"") | CG15: =IFERROR(INDEX($AP$5:$AX$39,$CA15,COLUMNS($AP$5:$AR$5)),"") | CH15: =IFERROR(INDEX($AP$5:$AX$39,$CA15,COLUMNS($AP$5:$AS$5)),"") | CI15: =IFERROR(INDEX($AP$5:$AX$39,$CA15,COLUMNS($AP$5:$AV$5)),"") | CJ15: =IFERROR(INDEX($AP$5:$AX$39,$CA15,COLUMNS($AP$5:$AW$5)),"") | CK15: =IFERROR(INDEX($AP$5:$AX$39,$CA15,COLUMNS($AP$5:$AT$5)),"") | CM15: 11 | CN15: =IF(CF15="","",VLOOKUP(CM15,$CC$5:$CK$39,4,FALSE)) | CO15: =IF(CF15="","",VLOOKUP(CM15,$CC$5:$CK$39,5,FALSE)) | CP15: =IF(CF15="","",VLOOKUP(CM15,$CC$5:$CK$39,6,FALSE)) | CQ15: =IF(CF15="","",VLOOKUP(CM15,$CC$5:$CK$39,7,FALSE)) | CR15: =IF(CF15="","",VLOOKUP(CM15,$CC$5:$CK$39,8,FALSE)) | CS15: =IF(CF15="","",VLOOKUP(CM15,$CC$5:$CK$39,9,FALSE))
H16: =IF(D16="","",D16-F16) | AO16: =IF(AP16="","",COUNTIF($AP$5:AP16,AP16)) | AP16: =IF(B16="","",B16) | AQ16: =IF(AP16="","",_xlfn.CONCAT(AP16,AO16)) | AR16: =IF(A16="","",A16) | AS16: =IF(D16="","",D16) | AT16: =IF(C16="","",C16) | AU16: =IF(E16="","",E16) | AV16: =IF(G16="","",G16) | AW16: =IF(F16="","",F16) | AX16: =IF(H16="","",H16) | AY16: {=_xlfn.IFS(AX16="","",_xlfn.NUMBERVALUE(AX16)=0,"P",_xlfn.NUMBERVALUE(AX16)>0,"O")} | AZ16: =ROWS($AO$5:AO16) -> 12 | BA16: =IF(AY16="O",AZ16,"") | BB16: =IFERROR(SMALL($BA$5:$BA$39,AZ16),"") | BD16: =RANK(BE16,BE$5:BE$39,1) -> #N/A | BE16: =IF(BF16="","36",COUNTIF($BF$5:$BF$39,"<="&BF16)) -> 36 | BF16: =IFERROR(INDEX($AP$5:$AX$39,$BB16,COLUMNS($AP$5:$AQ$5)),"") | BG16: =IFERROR(INDEX($AP$5:$AX$39,$BB16,COLUMNS($AP$5:$AP$5)),"") | BH16: =IFERROR(INDEX($AP$5:$AX$39,$BB16,COLUMNS($AP$5:$AR$5)),"") | BI16: =IFERROR(INDEX($AP$5:$AX$39,$BB16,COLUMNS($AP$5:$AS$5)),"") | BJ16: =IFERROR(INDEX($AP$5:$AX$39,$BB16,COLUMNS($AP$5:$AX$5)),"") | BK16: =IFERROR(INDEX($AP$5:$AX$39,$BB16,COLUMNS($AP$5:$AT$5)),"") | BL16: =IFERROR(INDEX($AP$5:$AX$39,$BB16,COLUMNS($AP$5:$AU$5)),"") | BM16: =IFERROR(INDEX($AP$5:$AX$39,$BB16,COLUMNS($AP$5:$AW$5)),"") | BN16: =IFERROR(INDEX($AP$5:$AX$39,$BB16,COLUMNS($AP$5:$AX$5)),"") | BP16: 12 | BQ16: =IF(BG16="","",VLOOKUP(BP16,$BD$5:$BN$39,4,FALSE)) | BR16: =IF(BG16="","",VLOOKUP(BP16,$BD$5:$BN$39,5,FALSE)) | BS16: =IF(BG16="","",VLOOKUP(BP16,$BD$5:$BN$39,6,FALSE)) | BT16: =IF(BG16="","",VLOOKUP(BP16,$BD$5:$BN$39,7,FALSE)) | BU16: =IF(BG16="","",VLOOKUP(BP16,$BD$5:$BN$39,9,FALSE)) | BV16: =IF(BG16="","",VLOOKUP(BP16,$BD$5:$BN$39,8,FALSE)) | BY16: =ROWS($AO$5:AO16) -> 12 | BZ16: =IF(AY16="P",BY16,"") | CA16: =IFERROR(SMALL($BZ$5:$BZ$39,BY16),"") | CC16: =RANK(CD16,CD$5:CD$39,1) -> #N/A | CD16: =IF(CE16="","36",COUNTIF($CE$5:$CE$39,"<="&CE16)) -> 36 | CE16: =IFERROR(INDEX($AP$5:$AX$39,$CA16,COLUMNS($AP$5:$AQ$5)),"") | CF16: =IFERROR(INDEX($AP$5:$AX$39,$CA16,COLUMNS($AP$5:$AP$5)),"") | CG16: =IFERROR(INDEX($AP$5:$AX$39,$CA16,COLUMNS($AP$5:$AR$5)),"") | CH16: =IFERROR(INDEX($AP$5:$AX$39,$CA16,COLUMNS($AP$5:$AS$5)),"") | CI16: =IFERROR(INDEX($AP$5:$AX$39,$CA16,COLUMNS($AP$5:$AV$5)),"") | CJ16: =IFERROR(INDEX($AP$5:$AX$39,$CA16,COLUMNS($AP$5:$AW$5)),"") | CK16: =IFERROR(INDEX($AP$5:$AX$39,$CA16,COLUMNS($AP$5:$AT$5)),"") | CM16: 12 | CN16: =IF(CF16="","",VLOOKUP(CM16,$CC$5:$CK$39,4,FALSE)) | CO16: =IF(CF16="","",VLOOKUP(CM16,$CC$5:$CK$39,5,FALSE)) | CP16: =IF(CF16="","",VLOOKUP(CM16,$CC$5:$CK$39,6,FALSE)) | CQ16: =IF(CF16="","",VLOOKUP(CM16,$CC$5:$CK$39,7,FALSE)) | CR16: =IF(CF16="","",VLOOKUP(CM16,$CC$5:$CK$39,8,FALSE)) | CS16: =IF(CF16="","",VLOOKUP(CM16,$CC$5:$CK$39,9,FALSE))
H17: =IF(D17="","",D17-F17) | AO17: =IF(AP17="","",COUNTIF($AP$5:AP17,AP17)) | AP17: =IF(B17="","",B17) | AQ17: =IF(AP17="","",_xlfn.CONCAT(AP17,AO17)) | AR17: =IF(A17="","",A17) | AS17: =IF(D17="","",D17) | AT17: =IF(C17="","",C17) | AU17: =IF(E17="","",E17) | AV17: =IF(G17="","",G17) | AW17: =IF(F17="","",F17) | AX17: =IF(H17="","",H17) | AY17: {=_xlfn.IFS(AX17="","",_xlfn.NUMBERVALUE(AX17)=0,"P",_xlfn.NUMBERVALUE(AX17)>0,"O")} | AZ17: =ROWS($AO$5:AO17) -> 13 | BA17: =IF(AY17="O",AZ17,"") | BB17: =IFERROR(SMALL($BA$5:$BA$39,AZ17),"") | BD17: =RANK(BE17,BE$5:BE$39,1) -> #N/A | BE17: =IF(BF17="","36",COUNTIF($BF$5:$BF$39,"<="&BF17)) -> 36 | BF17: =IFERROR(INDEX($AP$5:$AX$39,$BB17,COLUMNS($AP$5:$AQ$5)),"") | BG17: =IFERROR(INDEX($AP$5:$AX$39,$BB17,COLUMNS($AP$5:$AP$5)),"") | BH17: =IFERROR(INDEX($AP$5:$AX$39,$BB17,COLUMNS($AP$5:$AR$5)),"") | BI17: =IFERROR(INDEX($AP$5:$AX$39,$BB17,COLUMNS($AP$5:$AS$5)),"") | BJ17: =IFERROR(INDEX($AP$5:$AX$39,$BB17,COLUMNS($AP$5:$AX$5)),"") | BK17: =IFERROR(INDEX($AP$5:$AX$39,$BB17,COLUMNS($AP$5:$AT$5)),"") | BL17: =IFERROR(INDEX($AP$5:$AX$39,$BB17,COLUMNS($AP$5:$AU$5)),"") | BM17: =IFERROR(INDEX($AP$5:$AX$39,$BB17,COLUMNS($AP$5:$AW$5)),"") | BN17: =IFERROR(INDEX($AP$5:$AX$39,$BB17,COLUMNS($AP$5:$AX$5)),"") | BP17: 13 | BQ17: =IF(BG17="","",VLOOKUP(BP17,$BD$5:$BN$39,4,FALSE)) | BR17: =IF(BG17="","",VLOOKUP(BP17,$BD$5:$BN$39,5,FALSE)) | BS17: =IF(BG17="","",VLOOKUP(BP17,$BD$5:$BN$39,6,FALSE)) | BT17: =IF(BG17="","",VLOOKUP(BP17,$BD$5:$BN$39,7,FALSE)) | BU17: =IF(BG17="","",VLOOKUP(BP17,$BD$5:$BN$39,9,FALSE)) | BV17: =IF(BG17="","",VLOOKUP(BP17,$BD$5:$BN$39,8,FALSE)) | BY17: =ROWS($AO$5:AO17) -> 13 | BZ17: =IF(AY17="P",BY17,"") | CA17: =IFERROR(SMALL($BZ$5:$BZ$39,BY17),"") | CC17: =RANK(CD17,CD$5:CD$39,1) -> #N/A | CD17: =IF(CE17="","36",COUNTIF($CE$5:$CE$39,"<="&CE17)) -> 36 | CE17: =IFERROR(INDEX($AP$5:$AX$39,$CA17,COLUMNS($AP$5:$AQ$5)),"") | CF17: =IFERROR(INDEX($AP$5:$AX$39,$CA17,COLUMNS($AP$5:$AP$5)),"") | CG17: =IFERROR(INDEX($AP$5:$AX$39,$CA17,COLUMNS($AP$5:$AR$5)),"") | CH17: =IFERROR(INDEX($AP$5:$AX$39,$CA17,COLUMNS($AP$5:$AS$5)),"") | CI17: =IFERROR(INDEX($AP$5:$AX$39,$CA17,COLUMNS($AP$5:$AV$5)),"") | CJ17: =IFERROR(INDEX($AP$5:$AX$39,$CA17,COLUMNS($AP$5:$AW$5)),"") | CK17: =IFERROR(INDEX($AP$5:$AX$39,$CA17,COLUMNS($AP$5:$AT$5)),"") | CM17: 13 | CN17: =IF(CF17="","",VLOOKUP(CM17,$CC$5:$CK$39,4,FALSE)) | CO17: =IF(CF17="","",VLOOKUP(CM17,$CC$5:$CK$39,5,FALSE)) | CP17: =IF(CF17="","",VLOOKUP(CM17,$CC$5:$CK$39,6,FALSE)) | CQ17: =IF(CF17="","",VLOOKUP(CM17,$CC$5:$CK$39,7,FALSE)) | CR17: =IF(CF17="","",VLOOKUP(CM17,$CC$5:$CK$39,8,FALSE)) | CS17: =IF(CF17="","",VLOOKUP(CM17,$CC$5:$CK$39,9,FALSE))
H18: =IF(D18="","",D18-F18) | AO18: =IF(AP18="","",COUNTIF($AP$5:AP18,AP18)) | AP18: =IF(B18="","",B18) | AQ18: =IF(AP18="","",_xlfn.CONCAT(AP18,AO18)) | AR18: =IF(A18="","",A18) | AS18: =IF(D18="","",D18) | AT18: =IF(C18="","",C18) | AU18: =IF(E18="","",E18) | AV18: =IF(G18="","",G18) | AW18: =IF(F18="","",F18) | AX18: =IF(H18="","",H18) | AY18: {=_xlfn.IFS(AX18="","",_xlfn.NUMBERVALUE(AX18)=0,"P",_xlfn.NUMBERVALUE(AX18)>0,"O")} | AZ18: =ROWS($AO$5:AO18) -> 14 | BA18: =IF(AY18="O",AZ18,"") | BB18: =IFERROR(SMALL($BA$5:$BA$39,AZ18),"") | BD18: =RANK(BE18,BE$5:BE$39,1) -> #N/A | BE18: =IF(BF18="","36",COUNTIF($BF$5:$BF$39,"<="&BF18)) -> 36 | BF18: =IFERROR(INDEX($AP$5:$AX$39,$BB18,COLUMNS($AP$5:$AQ$5)),"") | BG18: =IFERROR(INDEX($AP$5:$AX$39,$BB18,COLUMNS($AP$5:$AP$5)),"") | BH18: =IFERROR(INDEX($AP$5:$AX$39,$BB18,COLUMNS($AP$5:$AR$5)),"") | BI18: =IFERROR(INDEX($AP$5:$AX$39,$BB18,COLUMNS($AP$5:$AS$5)),"") | BJ18: =IFERROR(INDEX($AP$5:$AX$39,$BB18,COLUMNS($AP$5:$AX$5)),"") | BK18: =IFERROR(INDEX($AP$5:$AX$39,$BB18,COLUMNS($AP$5:$AT$5)),"") | BL18: =IFERROR(INDEX($AP$5:$AX$39,$BB18,COLUMNS($AP$5:$AU$5)),"") | BM18: =IFERROR(INDEX($AP$5:$AX$39,$BB18,COLUMNS($AP$5:$AW$5)),"") | BN18: =IFERROR(INDEX($AP$5:$AX$39,$BB18,COLUMNS($AP$5:$AX$5)),"") | BP18: 14 | BQ18: =IF(BG18="","",VLOOKUP(BP18,$BD$5:$BN$39,4,FALSE)) | BR18: =IF(BG18="","",VLOOKUP(BP18,$BD$5:$BN$39,5,FALSE)) | BS18: =IF(BG18="","",VLOOKUP(BP18,$BD$5:$BN$39,6,FALSE)) | BT18: =IF(BG18="","",VLOOKUP(BP18,$BD$5:$BN$39,7,FALSE)) | BU18: =IF(BG18="","",VLOOKUP(BP18,$BD$5:$BN$39,9,FALSE)) | BV18: =IF(BG18="","",VLOOKUP(BP18,$BD$5:$BN$39,8,FALSE)) | BY18: =ROWS($AO$5:AO18) -> 14 | BZ18: =IF(AY18="P",BY18,"") | CA18: =IFERROR(SMALL($BZ$5:$BZ$39,BY18),"") | CC18: =RANK(CD18,CD$5:CD$39,1) -> #N/A | CD18: =IF(CE18="","36",COUNTIF($CE$5:$CE$39,"<="&CE18)) -> 36 | CE18: =IFERROR(INDEX($AP$5:$AX$39,$CA18,COLUMNS($AP$5:$AQ$5)),"") | CF18: =IFERROR(INDEX($AP$5:$AX$39,$CA18,COLUMNS($AP$5:$AP$5)),"") | CG18: =IFERROR(INDEX($AP$5:$AX$39,$CA18,COLUMNS($AP$5:$AR$5)),"") | CH18: =IFERROR(INDEX($AP$5:$AX$39,$CA18,COLUMNS($AP$5:$AS$5)),"") | CI18: =IFERROR(INDEX($AP$5:$AX$39,$CA18,COLUMNS($AP$5:$AV$5)),"") | CJ18: =IFERROR(INDEX($AP$5:$AX$39,$CA18,COLUMNS($AP$5:$AW$5)),"") | CK18: =IFERROR(INDEX($AP$5:$AX$39,$CA18,COLUMNS($AP$5:$AT$5)),"") | CM18: 14 | CN18: =IF(CF18="","",VLOOKUP(CM18,$CC$5:$CK$39,4,FALSE)) | CO18: =IF(CF18="","",VLOOKUP(CM18,$CC$5:$CK$39,5,FALSE)) | CP18: =IF(CF18="","",VLOOKUP(CM18,$CC$5:$CK$39,6,FALSE)) | CQ18: =IF(CF18="","",VLOOKUP(CM18,$CC$5:$CK$39,7,FALSE)) | CR18: =IF(CF18="","",VLOOKUP(CM18,$CC$5:$CK$39,8,FALSE)) | CS18: =IF(CF18="","",VLOOKUP(CM18,$CC$5:$CK$39,9,FALSE))
H19: =IF(D19="","",D19-F19) | AO19: =IF(AP19="","",COUNTIF($AP$5:AP19,AP19)) | AP19: =IF(B19="","",B19) | AQ19: =IF(AP19="","",_xlfn.CONCAT(AP19,AO19)) | AR19: =IF(A19="","",A19) | AS19: =IF(D19="","",D19) | AT19: =IF(C19="","",C19) | AU19: =IF(E19="","",E19) | AV19: =IF(G19="","",G19) | AW19: =IF(F19="","",F19) | AX19: =IF(H19="","",H19) | AY19: {=_xlfn.IFS(AX19="","",_xlfn.NUMBERVALUE(AX19)=0,"P",_xlfn.NUMBERVALUE(AX19)>0,"O")} | AZ19: =ROWS($AO$5:AO19) -> 15 | BA19: =IF(AY19="O",AZ19,"") | BB19: =IFERROR(SMALL($BA$5:$BA$39,AZ19),"") | BD19: =RANK(BE19,BE$5:BE$39,1) -> #N/A | BE19: =IF(BF19="","36",COUNTIF($BF$5:$BF$39,"<="&BF19)) -> 36 | BF19: =IFERROR(INDEX($AP$5:$AX$39,$BB19,COLUMNS($AP$5:$AQ$5)),"") | BG19: =IFERROR(INDEX($AP$5:$AX$39,$BB19,COLUMNS($AP$5:$AP$5)),"") | BH19: =IFERROR(INDEX($AP$5:$AX$39,$BB19,COLUMNS($AP$5:$AR$5)),"") | BI19: =IFERROR(INDEX($AP$5:$AX$39,$BB19,COLUMNS($AP$5:$AS$5)),"") | BJ19: =IFERROR(INDEX($AP$5:$AX$39,$BB19,COLUMNS($AP$5:$AX$5)),"") | BK19: =IFERROR(INDEX($AP$5:$AX$39,$BB19,COLUMNS($AP$5:$AT$5)),"") | BL19: =IFERROR(INDEX($AP$5:$AX$39,$BB19,COLUMNS($AP$5:$AU$5)),"") | BM19: =IFERROR(INDEX($AP$5:$AX$39,$BB19,COLUMNS($AP$5:$AW$5)),"") | BN19: =IFERROR(INDEX($AP$5:$AX$39,$BB19,COLUMNS($AP$5:$AX$5)),"") | BP19: 15 | BQ19: =IF(BG19="","",VLOOKUP(BP19,$BD$5:$BN$39,4,FALSE)) | BR19: =IF(BG19="","",VLOOKUP(BP19,$BD$5:$BN$39,5,FALSE)) | BS19: =IF(BG19="","",VLOOKUP(BP19,$BD$5:$BN$39,6,FALSE)) | BT19: =IF(BG19="","",VLOOKUP(BP19,$BD$5:$BN$39,7,FALSE)) | BU19: =IF(BG19="","",VLOOKUP(BP19,$BD$5:$BN$39,9,FALSE)) | BV19: =IF(BG19="","",VLOOKUP(BP19,$BD$5:$BN$39,8,FALSE)) | BY19: =ROWS($AO$5:AO19) -> 15 | BZ19: =IF(AY19="P",BY19,"") | CA19: =IFERROR(SMALL($BZ$5:$BZ$39,BY19),"") | CC19: =RANK(CD19,CD$5:CD$39,1) -> #N/A | CD19: =IF(CE19="","36",COUNTIF($CE$5:$CE$39,"<="&CE19)) -> 36 | CE19: =IFERROR(INDEX($AP$5:$AX$39,$CA19,COLUMNS($AP$5:$AQ$5)),"") | CF19: =IFERROR(INDEX($AP$5:$AX$39,$CA19,COLUMNS($AP$5:$AP$5)),"") | CG19: =IFERROR(INDEX($AP$5:$AX$39,$CA19,COLUMNS($AP$5:$AR$5)),"") | CH19: =IFERROR(INDEX($AP$5:$AX$39,$CA19,COLUMNS($AP$5:$AS$5)),"") | CI19: =IFERROR(INDEX($AP$5:$AX$39,$CA19,COLUMNS($AP$5:$AV$5)),"") | CJ19: =IFERROR(INDEX($AP$5:$AX$39,$CA19,COLUMNS($AP$5:$AW$5)),"") | CK19: =IFERROR(INDEX($AP$5:$AX$39,$CA19,COLUMNS($AP$5:$AT$5)),"") | CM19: 15 | CN19: =IF(CF19="","",VLOOKUP(CM19,$CC$5:$CK$39,4,FALSE)) | CO19: =IF(CF19="","",VLOOKUP(CM19,$CC$5:$CK$39,5,FALSE)) | CP19: =IF(CF19="","",VLOOKUP(CM19,$CC$5:$CK$39,6,FALSE)) | CQ19: =IF(CF19="","",VLOOKUP(CM19,$CC$5:$CK$39,7,FALSE)) | CR19: =IF(CF19="","",VLOOKUP(CM19,$CC$5:$CK$39,8,FALSE)) | CS19: =IF(CF19="","",VLOOKUP(CM19,$CC$5:$CK$39,9,FALSE))
H20: =IF(D20="","",D20-F20) | AO20: =IF(AP20="","",COUNTIF($AP$5:AP20,AP20)) | AP20: =IF(B20="","",B20) | AQ20: =IF(AP20="","",_xlfn.CONCAT(AP20,AO20)) | AR20: =IF(A20="","",A20) | AS20: =IF(D20="","",D20) | AT20: =IF(C20="","",C20) | AU20: =IF(E20="","",E20) | AV20: =IF(G20="","",G20) | AW20: =IF(F20="","",F20) | AX20: =IF(H20="","",H20) | AY20: {=_xlfn.IFS(AX20="","",_xlfn.NUMBERVALUE(AX20)=0,"P",_xlfn.NUMBERVALUE(AX20)>0,"O")} | AZ20: =ROWS($AO$5:AO20) -> 16 | BA20: =IF(AY20="O",AZ20,"") | BB20: =IFERROR(SMALL($BA$5:$BA$39,AZ20),"") | BD20: =RANK(BE20,BE$5:BE$39,1) -> #N/A | BE20: =IF(BF20="","36",COUNTIF($BF$5:$BF$39,"<="&BF20)) -> 36 | BF20: =IFERROR(INDEX($AP$5:$AX$39,$BB20,COLUMNS($AP$5:$AQ$5)),"") | BG20: =IFERROR(INDEX($AP$5:$AX$39,$BB20,COLUMNS($AP$5:$AP$5)),"") | BH20: =IFERROR(INDEX($AP$5:$AX$39,$BB20,COLUMNS($AP$5:$AR$5)),"") | BI20: =IFERROR(INDEX($AP$5:$AX$39,$BB20,COLUMNS($AP$5:$AS$5)),"") | BJ20: =IFERROR(INDEX($AP$5:$AX$39,$BB20,COLUMNS($AP$5:$AX$5)),"") | BK20: =IFERROR(INDEX($AP$5:$AX$39,$BB20,COLUMNS($AP$5:$AT$5)),"") | BL20: =IFERROR(INDEX($AP$5:$AX$39,$BB20,COLUMNS($AP$5:$AU$5)),"") | BM20: =IFERROR(INDEX($AP$5:$AX$39,$BB20,COLUMNS($AP$5:$AW$5)),"") | BN20: =IFERROR(INDEX($AP$5:$AX$39,$BB20,COLUMNS($AP$5:$AX$5)),"") | BP20: 16 | BQ20: =IF(BG20="","",VLOOKUP(BP20,$BD$5:$BN$39,4,FALSE)) | BR20: =IF(BG20="","",VLOOKUP(BP20,$BD$5:$BN$39,5,FALSE)) | BS20: =IF(BG20="","",VLOOKUP(BP20,$BD$5:$BN$39,6,FALSE)) | BT20: =IF(BG20="","",VLOOKUP(BP20,$BD$5:$BN$39,7,FALSE)) | BU20: =IF(BG20="","",VLOOKUP(BP20,$BD$5:$BN$39,9,FALSE)) | BV20: =IF(BG20="","",VLOOKUP(BP20,$BD$5:$BN$39,8,FALSE)) | BY20: =ROWS($AO$5:AO20) -> 16 | BZ20: =IF(AY20="P",BY20,"") | CA20: =IFERROR(SMALL($BZ$5:$BZ$39,BY20),"") | CC20: =RANK(CD20,CD$5:CD$39,1) -> #N/A | CD20: =IF(CE20="","36",COUNTIF($CE$5:$CE$39,"<="&CE20)) -> 36 | CE20: =IFERROR(INDEX($AP$5:$AX$39,$CA20,COLUMNS($AP$5:$AQ$5)),"") | CF20: =IFERROR(INDEX($AP$5:$AX$39,$CA20,COLUMNS($AP$5:$AP$5)),"") | CG20: =IFERROR(INDEX($AP$5:$AX$39,$CA20,COLUMNS($AP$5:$AR$5)),"") | CH20: =IFERROR(INDEX($AP$5:$AX$39,$CA20,COLUMNS($AP$5:$AS$5)),"") | CI20: =IFERROR(INDEX($AP$5:$AX$39,$CA20,COLUMNS($AP$5:$AV$5)),"") | CJ20: =IFERROR(INDEX($AP$5:$AX$39,$CA20,COLUMNS($AP$5:$AW$5)),"") | CK20: =IFERROR(INDEX($AP$5:$AX$39,$CA20,COLUMNS($AP$5:$AT$5)),"") | CM20: 16 | CN20: =IF(CF20="","",VLOOKUP(CM20,$CC$5:$CK$39,4,FALSE)) | CO20: =IF(CF20="","",VLOOKUP(CM20,$CC$5:$CK$39,5,FALSE)) | CP20: =IF(CF20="","",VLOOKUP(CM20,$CC$5:$CK$39,6,FALSE)) | CQ20: =IF(CF20="","",VLOOKUP(CM20,$CC$5:$CK$39,7,FALSE)) | CR20: =IF(CF20="","",VLOOKUP(CM20,$CC$5:$CK$39,8,FALSE)) | CS20: =IF(CF20="","",VLOOKUP(CM20,$CC$5:$CK$39,9,FALSE))
H21: =IF(D21="","",D21-F21) | AO21: =IF(AP21="","",COUNTIF($AP$5:AP21,AP21)) | AP21: =IF(B21="","",B21) | AQ21: =IF(AP21="","",_xlfn.CONCAT(AP21,AO21)) | AR21: =IF(A21="","",A21) | AS21: =IF(D21="","",D21) | AT21: =IF(C21="","",C21) | AU21: =IF(E21="","",E21) | AV21: =IF(G21="","",G21) | AW21: =IF(F21="","",F21) | AX21: =IF(H21="","",H21) | AY21: {=_xlfn.IFS(AX21="","",_xlfn.NUMBERVALUE(AX21)=0,"P",_xlfn.NUMBERVALUE(AX21)>0,"O")} | AZ21: =ROWS($AO$5:AO21) -> 17 | BA21: =IF(AY21="O",AZ21,"") | BB21: =IFERROR(SMALL($BA$5:$BA$39,AZ21),"") | BD21: =RANK(BE21,BE$5:BE$39,1) -> #N/A | BE21: =IF(BF21="","36",COUNTIF($BF$5:$BF$39,"<="&BF21)) -> 36 | BF21: =IFERROR(INDEX($AP$5:$AX$39,$BB21,COLUMNS($AP$5:$AQ$5)),"") | BG21: =IFERROR(INDEX($AP$5:$AX$39,$BB21,COLUMNS($AP$5:$AP$5)),"") | BH21: =IFERROR(INDEX($AP$5:$AX$39,$BB21,COLUMNS($AP$5:$AR$5)),"") | BI21: =IFERROR(INDEX($AP$5:$AX$39,$BB21,COLUMNS($AP$5:$AS$5)),"") | BJ21: =IFERROR(INDEX($AP$5:$AX$39,$BB21,COLUMNS($AP$5:$AX$5)),"") | BK21: =IFERROR(INDEX($AP$5:$AX$39,$BB21,COLUMNS($AP$5:$AT$5)),"") | BL21: =IFERROR(INDEX($AP$5:$AX$39,$BB21,COLUMNS($AP$5:$AU$5)),"") | BM21: =IFERROR(INDEX($AP$5:$AX$39,$BB21,COLUMNS($AP$5:$AW$5)),"") | BN21: =IFERROR(INDEX($AP$5:$AX$39,$BB21,COLUMNS($AP$5:$AX$5)),"") | BP21: 17 | BQ21: =IF(BG21="","",VLOOKUP(BP21,$BD$5:$BN$39,4,FALSE)) | BR21: =IF(BG21="","",VLOOKUP(BP21,$BD$5:$BN$39,5,FALSE)) | BS21: =IF(BG21="","",VLOOKUP(BP21,$BD$5:$BN$39,6,FALSE)) | BT21: =IF(BG21="","",VLOOKUP(BP21,$BD$5:$BN$39,7,FALSE)) | BU21: =IF(BG21="","",VLOOKUP(BP21,$BD$5:$BN$39,9,FALSE)) | BV21: =IF(BG21="","",VLOOKUP(BP21,$BD$5:$BN$39,8,FALSE)) | BY21: =ROWS($AO$5:AO21) -> 17 | BZ21: =IF(AY21="P",BY21,"") | CA21: =IFERROR(SMALL($BZ$5:$BZ$39,BY21),"") | CC21: =RANK(CD21,CD$5:CD$39,1) -> #N/A | CD21: =IF(CE21="","36",COUNTIF($CE$5:$CE$39,"<="&CE21)) -> 36 | CE21: =IFERROR(INDEX($AP$5:$AX$39,$CA21,COLUMNS($AP$5:$AQ$5)),"") | CF21: =IFERROR(INDEX($AP$5:$AX$39,$CA21,COLUMNS($AP$5:$AP$5)),"") | CG21: =IFERROR(INDEX($AP$5:$AX$39,$CA21,COLUMNS($AP$5:$AR$5)),"") | CH21: =IFERROR(INDEX($AP$5:$AX$39,$CA21,COLUMNS($AP$5:$AS$5)),"") | CI21: =IFERROR(INDEX($AP$5:$AX$39,$CA21,COLUMNS($AP$5:$AV$5)),"") | CJ21: =IFERROR(INDEX($AP$5:$AX$39,$CA21,COLUMNS($AP$5:$AW$5)),"") | CK21: =IFERROR(INDEX($AP$5:$AX$39,$CA21,COLUMNS($AP$5:$AT$5)),"") | CM21: 17 | CN21: =IF(CF21="","",VLOOKUP(CM21,$CC$5:$CK$39,4,FALSE)) | CO21: =IF(CF21="","",VLOOKUP(CM21,$CC$5:$CK$39,5,FALSE)) | CP21: =IF(CF21="","",VLOOKUP(CM21,$CC$5:$CK$39,6,FALSE)) | CQ21: =IF(CF21="","",VLOOKUP(CM21,$CC$5:$CK$39,7,FALSE)) | CR21: =IF(CF21="","",VLOOKUP(CM21,$CC$5:$CK$39,8,FALSE)) | CS21: =IF(CF21="","",VLOOKUP(CM21,$CC$5:$CK$39,9,FALSE))
H22: =IF(D22="","",D22-F22) | AO22: =IF(AP22="","",COUNTIF($AP$5:AP22,AP22)) | AP22: =IF(B22="","",B22) | AQ22: =IF(AP22="","",_xlfn.CONCAT(AP22,AO22)) | AR22: =IF(A22="","",A22) | AS22: =IF(D22="","",D22) | AT22: =IF(C22="","",C22) | AU22: =IF(E22="","",E22) | AV22: =IF(G22="","",G22) | AW22: =IF(F22="","",F22) | AX22: =IF(H22="","",H22) | AY22: {=_xlfn.IFS(AX22="","",_xlfn.NUMBERVALUE(AX22)=0,"P",_xlfn.NUMBERVALUE(AX22)>0,"O")} | AZ22: =ROWS($AO$5:AO22) -> 18 | BA22: =IF(AY22="O",AZ22,"") | BB22: =IFERROR(SMALL($BA$5:$BA$39,AZ22),"") | BD22: =RANK(BE22,BE$5:BE$39,1) -> #N/A | BE22: =IF(BF22="","36",COUNTIF($BF$5:$BF$39,"<="&BF22)) -> 36 | BF22: =IFERROR(INDEX($AP$5:$AX$39,$BB22,COLUMNS($AP$5:$AQ$5)),"") | BG22: =IFERROR(INDEX($AP$5:$AX$39,$BB22,COLUMNS($AP$5:$AP$5)),"") | BH22: =IFERROR(INDEX($AP$5:$AX$39,$BB22,COLUMNS($AP$5:$AR$5)),"") | BI22: =IFERROR(INDEX($AP$5:$AX$39,$BB22,COLUMNS($AP$5:$AS$5)),"") | BJ22: =IFERROR(INDEX($AP$5:$AX$39,$BB22,COLUMNS($AP$5:$AX$5)),"") | BK22: =IFERROR(INDEX($AP$5:$AX$39,$BB22,COLUMNS($AP$5:$AT$5)),"") | BL22: =IFERROR(INDEX($AP$5:$AX$39,$BB22,COLUMNS($AP$5:$AU$5)),"") | BM22: =IFERROR(INDEX($AP$5:$AX$39,$BB22,COLUMNS($AP$5:$AW$5)),"") | BN22: =IFERROR(INDEX($AP$5:$AX$39,$BB22,COLUMNS($AP$5:$AX$5)),"") | BP22: 18 | BQ22: =IF(BG22="","",VLOOKUP(BP22,$BD$5:$BN$39,4,FALSE)) | BR22: =IF(BG22="","",VLOOKUP(BP22,$BD$5:$BN$39,5,FALSE)) | BS22: =IF(BG22="","",VLOOKUP(BP22,$BD$5:$BN$39,6,FALSE)) | BT22: =IF(BG22="","",VLOOKUP(BP22,$BD$5:$BN$39,7,FALSE)) | BU22: =IF(BG22="","",VLOOKUP(BP22,$BD$5:$BN$39,9,FALSE)) | BV22: =IF(BG22="","",VLOOKUP(BP22,$BD$5:$BN$39,8,FALSE)) | BY22: =ROWS($AO$5:AO22) -> 18 | BZ22: =IF(AY22="P",BY22,"") | CA22: =IFERROR(SMALL($BZ$5:$BZ$39,BY22),"") | CC22: =RANK(CD22,CD$5:CD$39,1) -> #N/A | CD22: =IF(CE22="","36",COUNTIF($CE$5:$CE$39,"<="&CE22)) -> 36 | CE22: =IFERROR(INDEX($AP$5:$AX$39,$CA22,COLUMNS($AP$5:$AQ$5)),"") | CF22: =IFERROR(INDEX($AP$5:$AX$39,$CA22,COLUMNS($AP$5:$AP$5)),"") | CG22: =IFERROR(INDEX($AP$5:$AX$39,$CA22,COLUMNS($AP$5:$AR$5)),"") | CH22: =IFERROR(INDEX($AP$5:$AX$39,$CA22,COLUMNS($AP$5:$AS$5)),"") | CI22: =IFERROR(INDEX($AP$5:$AX$39,$CA22,COLUMNS($AP$5:$AV$5)),"") | CJ22: =IFERROR(INDEX($AP$5:$AX$39,$CA22,COLUMNS($AP$5:$AW$5)),"") | CK22: =IFERROR(INDEX($AP$5:$AX$39,$CA22,COLUMNS($AP$5:$AT$5)),"") | CM22: 18 | CN22: =IF(CF22="","",VLOOKUP(CM22,$CC$5:$CK$39,4,FALSE)) | CO22: =IF(CF22="","",VLOOKUP(CM22,$CC$5:$CK$39,5,FALSE)) | CP22: =IF(CF22="","",VLOOKUP(CM22,$CC$5:$CK$39,6,FALSE)) | CQ22: =IF(CF22="","",VLOOKUP(CM22,$CC$5:$CK$39,7,FALSE)) | CR22: =IF(CF22="","",VLOOKUP(CM22,$CC$5:$CK$39,8,FALSE)) | CS22: =IF(CF22="","",VLOOKUP(CM22,$CC$5:$CK$39,9,FALSE))
H23: =IF(D23="","",D23-F23) | AO23: =IF(AP23="","",COUNTIF($AP$5:AP23,AP23)) | AP23: =IF(B23="","",B23) | AQ23: =IF(AP23="","",_xlfn.CONCAT(AP23,AO23)) | AR23: =IF(A23="","",A23) | AS23: =IF(D23="","",D23) | AT23: =IF(C23="","",C23) | AU23: =IF(E23="","",E23) | AV23: =IF(G23="","",G23) | AW23: =IF(F23="","",F23) | AX23: =IF(H23="","",H23) | AY23: {=_xlfn.IFS(AX23="","",_xlfn.NUMBERVALUE(AX23)=0,"P",_xlfn.NUMBERVALUE(AX23)>0,"O")} | AZ23: =ROWS($AO$5:AO23) -> 19 | BA23: =IF(AY23="O",AZ23,"") | BB23: =IFERROR(SMALL($BA$5:$BA$39,AZ23),"") | BD23: =RANK(BE23,BE$5:BE$39,1) -> #N/A | BE23: =IF(BF23="","36",COUNTIF($BF$5:$BF$39,"<="&BF23)) -> 36 | BF23: =IFERROR(INDEX($AP$5:$AX$39,$BB23,COLUMNS($AP$5:$AQ$5)),"") | BG23: =IFERROR(INDEX($AP$5:$AX$39,$BB23,COLUMNS($AP$5:$AP$5)),"") | BH23: =IFERROR(INDEX($AP$5:$AX$39,$BB23,COLUMNS($AP$5:$AR$5)),"") | BI23: =IFERROR(INDEX($AP$5:$AX$39,$BB23,COLUMNS($AP$5:$AS$5)),"") | BJ23: =IFERROR(INDEX($AP$5:$AX$39,$BB23,COLUMNS($AP$5:$AX$5)),"") | BK23: =IFERROR(INDEX($AP$5:$AX$39,$BB23,COLUMNS($AP$5:$AT$5)),"") | BL23: =IFERROR(INDEX($AP$5:$AX$39,$BB23,COLUMNS($AP$5:$AU$5)),"") | BM23: =IFERROR(INDEX($AP$5:$AX$39,$BB23,COLUMNS($AP$5:$AW$5)),"") | BN23: =IFERROR(INDEX($AP$5:$AX$39,$BB23,COLUMNS($AP$5:$AX$5)),"") | BP23: 19 | BQ23: =IF(BG23="","",VLOOKUP(BP23,$BD$5:$BN$39,4,FALSE)) | BR23: =IF(BG23="","",VLOOKUP(BP23,$BD$5:$BN$39,5,FALSE)) | BS23: =IF(BG23="","",VLOOKUP(BP23,$BD$5:$BN$39,6,FALSE)) | BT23: =IF(BG23="","",VLOOKUP(BP23,$BD$5:$BN$39,7,FALSE)) | BU23: =IF(BG23="","",VLOOKUP(BP23,$BD$5:$BN$39,9,FALSE)) | BV23: =IF(BG23="","",VLOOKUP(BP23,$BD$5:$BN$39,8,FALSE)) | BY23: =ROWS($AO$5:AO23) -> 19 | BZ23: =IF(AY23="P",BY23,"") | CA23: =IFERROR(SMALL($BZ$5:$BZ$39,BY23),"") | CC23: =RANK(CD23,CD$5:CD$39,1) -> #N/A | CD23: =IF(CE23="","36",COUNTIF($CE$5:$CE$39,"<="&CE23)) -> 36 | CE23: =IFERROR(INDEX($AP$5:$AX$39,$CA23,COLUMNS($AP$5:$AQ$5)),"") | CF23: =IFERROR(INDEX($AP$5:$AX$39,$CA23,COLUMNS($AP$5:$AP$5)),"") | CG23: =IFERROR(INDEX($AP$5:$AX$39,$CA23,COLUMNS($AP$5:$AR$5)),"") | CH23: =IFERROR(INDEX($AP$5:$AX$39,$CA23,COLUMNS($AP$5:$AS$5)),"") | CI23: =IFERROR(INDEX($AP$5:$AX$39,$CA23,COLUMNS($AP$5:$AV$5)),"") | CJ23: =IFERROR(INDEX($AP$5:$AX$39,$CA23,COLUMNS($AP$5:$AW$5)),"") | CK23: =IFERROR(INDEX($AP$5:$AX$39,$CA23,COLUMNS($AP$5:$AT$5)),"") | CM23: 19 | CN23: =IF(CF23="","",VLOOKUP(CM23,$CC$5:$CK$39,4,FALSE)) | CO23: =IF(CF23="","",VLOOKUP(CM23,$CC$5:$CK$39,5,FALSE)) | CP23: =IF(CF23="","",VLOOKUP(CM23,$CC$5:$CK$39,6,FALSE)) | CQ23: =IF(CF23="","",VLOOKUP(CM23,$CC$5:$CK$39,7,FALSE)) | CR23: =IF(CF23="","",VLOOKUP(CM23,$CC$5:$CK$39,8,FALSE)) | CS23: =IF(CF23="","",VLOOKUP(CM23,$CC$5:$CK$39,9,FALSE))
H24: =IF(D24="","",D24-F24) | AO24: =IF(AP24="","",COUNTIF($AP$5:AP24,AP24)) | AP24: =IF(B24="","",B24) | AQ24: =IF(AP24="","",_xlfn.CONCAT(AP24,AO24)) | AR24: =IF(A24="","",A24) | AS24: =IF(D24="","",D24) | AT24: =IF(C24="","",C24) | AU24: =IF(E24="","",E24) | AV24: =IF(G24="","",G24) | AW24: =IF(F24="","",F24) | AX24: =IF(H24="","",H24) | AY24: {=_xlfn.IFS(AX24="","",_xlfn.NUMBERVALUE(AX24)=0,"P",_xlfn.NUMBERVALUE(AX24)>0,"O")} | AZ24: =ROWS($AO$5:AO24) -> 20 | BA24: =IF(AY24="O",AZ24,"") | BB24: =IFERROR(SMALL($BA$5:$BA$39,AZ24),"") | BD24: =RANK(BE24,BE$5:BE$39,1) -> #N/A | BE24: =IF(BF24="","36",COUNTIF($BF$5:$BF$39,"<="&BF24)) -> 36 | BF24: =IFERROR(INDEX($AP$5:$AX$39,$BB24,COLUMNS($AP$5:$AQ$5)),"") | BG24: =IFERROR(INDEX($AP$5:$AX$39,$BB24,COLUMNS($AP$5:$AP$5)),"") | BH24: =IFERROR(INDEX($AP$5:$AX$39,$BB24,COLUMNS($AP$5:$AR$5)),"") | BI24: =IFERROR(INDEX($AP$5:$AX$39,$BB24,COLUMNS($AP$5:$AS$5)),"") | BJ24: =IFERROR(INDEX($AP$5:$AX$39,$BB24,COLUMNS($AP$5:$AX$5)),"") | BK24: =IFERROR(INDEX($AP$5:$AX$39,$BB24,COLUMNS($AP$5:$AT$5)),"") | BL24: =IFERROR(INDEX($AP$5:$AX$39,$BB24,COLUMNS($AP$5:$AU$5)),"") | BM24: =IFERROR(INDEX($AP$5:$AX$39,$BB24,COLUMNS($AP$5:$AW$5)),"") | BN24: =IFERROR(INDEX($AP$5:$AX$39,$BB24,COLUMNS($AP$5:$AX$5)),"") | BP24: 20 | BQ24: =IF(BG24="","",VLOOKUP(BP24,$BD$5:$BN$39,4,FALSE)) | BR24: =IF(BG24="","",VLOOKUP(BP24,$BD$5:$BN$39,5,FALSE)) | BS24: =IF(BG24="","",VLOOKUP(BP24,$BD$5:$BN$39,6,FALSE)) | BT24: =IF(BG24="","",VLOOKUP(BP24,$BD$5:$BN$39,7,FALSE)) | BU24: =IF(BG24="","",VLOOKUP(BP24,$BD$5:$BN$39,9,FALSE)) | BV24: =IF(BG24="","",VLOOKUP(BP24,$BD$5:$BN$39,8,FALSE)) | BY24: =ROWS($AO$5:AO24) -> 20 | BZ24: =IF(AY24="P",BY24,"") | CA24: =IFERROR(SMALL($BZ$5:$BZ$39,BY24),"") | CC24: =RANK(CD24,CD$5:CD$39,1) -> #N/A | CD24: =IF(CE24="","36",COUNTIF($CE$5:$CE$39,"<="&CE24)) -> 36 | CE24: =IFERROR(INDEX($AP$5:$AX$39,$CA24,COLUMNS($AP$5:$AQ$5)),"") | CF24: =IFERROR(INDEX($AP$5:$AX$39,$CA24,COLUMNS($AP$5:$AP$5)),"") | CG24: =IFERROR(INDEX($AP$5:$AX$39,$CA24,COLUMNS($AP$5:$AR$5)),"") | CH24: =IFERROR(INDEX($AP$5:$AX$39,$CA24,COLUMNS($AP$5:$AS$5)),"") | CI24: =IFERROR(INDEX($AP$5:$AX$39,$CA24,COLUMNS($AP$5:$AV$5)),"") | CJ24: =IFERROR(INDEX($AP$5:$AX$39,$CA24,COLUMNS($AP$5:$AW$5)),"") | CK24: =IFERROR(INDEX($AP$5:$AX$39,$CA24,COLUMNS($AP$5:$AT$5)),"") | CM24: 20 | CN24: =IF(CF24="","",VLOOKUP(CM24,$CC$5:$CK$39,4,FALSE)) | CO24: =IF(CF24="","",VLOOKUP(CM24,$CC$5:$CK$39,5,FALSE)) | CP24: =IF(CF24="","",VLOOKUP(CM24,$CC$5:$CK$39,6,FALSE)) | CQ24: =IF(CF24="","",VLOOKUP(CM24,$CC$5:$CK$39,7,FALSE)) | CR24: =IF(CF24="","",VLOOKUP(CM24,$CC$5:$CK$39,8,FALSE)) | CS24: =IF(CF24="","",VLOOKUP(CM24,$CC$5:$CK$39,9,FALSE))
H25: =IF(D25="","",D25-F25) | AO25: =IF(AP25="","",COUNTIF($AP$5:AP25,AP25)) | AP25: =IF(B25="","",B25) | AQ25: =IF(AP25="","",_xlfn.CONCAT(AP25,AO25)) | AR25: =IF(A25="","",A25) | AS25: =IF(D25="","",D25) | AT25: =IF(C25="","",C25) | AU25: =IF(E25="","",E25) | AV25: =IF(G25="","",G25) | AW25: =IF(F25="","",F25) | AX25: =IF(H25="","",H25) | AY25: {=_xlfn.IFS(AX25="","",_xlfn.NUMBERVALUE(AX25)=0,"P",_xlfn.NUMBERVALUE(AX25)>0,"O")} | AZ25: =ROWS($AO$5:AO25) -> 21 | BA25: =IF(AY25="O",AZ25,"") | BB25: =IFERROR(SMALL($BA$5:$BA$39,AZ25),"") | BD25: =RANK(BE25,BE$5:BE$39,1) -> #N/A | BE25: =IF(BF25="","36",COUNTIF($BF$5:$BF$39,"<="&BF25)) -> 36 | BF25: =IFERROR(INDEX($AP$5:$AX$39,$BB25,COLUMNS($AP$5:$AQ$5)),"") | BG25: =IFERROR(INDEX($AP$5:$AX$39,$BB25,COLUMNS($AP$5:$AP$5)),"") | BH25: =IFERROR(INDEX($AP$5:$AX$39,$BB25,COLUMNS($AP$5:$AR$5)),"") | BI25: =IFERROR(INDEX($AP$5:$AX$39,$BB25,COLUMNS($AP$5:$AS$5)),"") | BJ25: =IFERROR(INDEX($AP$5:$AX$39,$BB25,COLUMNS($AP$5:$AX$5)),"") | BK25: =IFERROR(INDEX($AP$5:$AX$39,$BB25,COLUMNS($AP$5:$AT$5)),"") | BL25: =IFERROR(INDEX($AP$5:$AX$39,$BB25,COLUMNS($AP$5:$AU$5)),"") | BM25: =IFERROR(INDEX($AP$5:$AX$39,$BB25,COLUMNS($AP$5:$AW$5)),"") | BN25: =IFERROR(INDEX($AP$5:$AX$39,$BB25,COLUMNS($AP$5:$AX$5)),"") | BP25: 21 | BQ25: =IF(BG25="","",VLOOKUP(BP25,$BD$5:$BN$39,4,FALSE)) | BR25: =IF(BG25="","",VLOOKUP(BP25,$BD$5:$BN$39,5,FALSE)) | BS25: =IF(BG25="","",VLOOKUP(BP25,$BD$5:$BN$39,6,FALSE)) | BT25: =IF(BG25="","",VLOOKUP(BP25,$BD$5:$BN$39,7,FALSE)) | BU25: =IF(BG25="","",VLOOKUP(BP25,$BD$5:$BN$39,9,FALSE)) | BV25: =IF(BG25="","",VLOOKUP(BP25,$BD$5:$BN$39,8,FALSE)) | BY25: =ROWS($AO$5:AO25) -> 21 | BZ25: =IF(AY25="P",BY25,"") | CA25: =IFERROR(SMALL($BZ$5:$BZ$39,BY25),"") | CC25: =RANK(CD25,CD$5:CD$39,1) -> #N/A | CD25: =IF(CE25="","36",COUNTIF($CE$5:$CE$39,"<="&CE25)) -> 36 | CE25: =IFERROR(INDEX($AP$5:$AX$39,$CA25,COLUMNS($AP$5:$AQ$5)),"") | CF25: =IFERROR(INDEX($AP$5:$AX$39,$CA25,COLUMNS($AP$5:$AP$5)),"") | CG25: =IFERROR(INDEX($AP$5:$AX$39,$CA25,COLUMNS($AP$5:$AR$5)),"") | CH25: =IFERROR(INDEX($AP$5:$AX$39,$CA25,COLUMNS($AP$5:$AS$5)),"") | CI25: =IFERROR(INDEX($AP$5:$AX$39,$CA25,COLUMNS($AP$5:$AV$5)),"") | CJ25: =IFERROR(INDEX($AP$5:$AX$39,$CA25,COLUMNS($AP$5:$AW$5)),"") | CK25: =IFERROR(INDEX($AP$5:$AX$39,$CA25,COLUMNS($AP$5:$AT$5)),"") | CM25: 21 | CN25: =IF(CF25="","",VLOOKUP(CM25,$CC$5:$CK$39,4,FALSE)) | CO25: =IF(CF25="","",VLOOKUP(CM25,$CC$5:$CK$39,5,FALSE)) | CP25: =IF(CF25="","",VLOOKUP(CM25,$CC$5:$CK$39,6,FALSE)) | CQ25: =IF(CF25="","",VLOOKUP(CM25,$CC$5:$CK$39,7,FALSE)) | CR25: =IF(CF25="","",VLOOKUP(CM25,$CC$5:$CK$39,8,FALSE)) | CS25: =IF(CF25="","",VLOOKUP(CM25,$CC$5:$CK$39,9,FALSE))
